BEGIN:VCALENDAR
VERSION:2.0
CALSCALE:GREGORIAN
PRODID:https://kalender.karlsruhe.de/db/termine/
METHOD:PUBLISH
BEGIN:VEVENT
UID:573374
ORGANIZER;CN=Badisches Staatstheater Karlsruhe:MAILTO:kartenservice@staatstheater.karlsruhe.de
LOCATION:Staatstheater, siehe Beschreibung
SUMMARY:KlangÖffner am Vormittag
DESCRIPTION;ENCODING=QUOTED-PRINTABLE:=C2=A0=0D=0A=0D=0A
URL:https://kalender.karlsruhe.de/db/termine/musik/klangoffner_am_vormittag-1
CLASS:PUBLIC
DTSTART:20260703T100000
DTEND:
DTSTAMP:20260420T175538
CATEGORIES:Musik
ATTACH:https://kalender.karlsruhe.de/db/termine/musik/klangoffner_am_vormittag-1/file/icon_bsk_2025_26_digitale-formate_klangOeffner_a_v_allgemein_stueckinfo_69021aa81065b0.96470882.jpg
END:VEVENT

END:VCALENDAR
