BEGIN:VCALENDAR
VERSION:2.0
CALSCALE:GREGORIAN
PRODID:https://kalender.karlsruhe.de/db/termine/
METHOD:PUBLISH
BEGIN:VEVENT
UID:580485
ORGANIZER;CN=PIANO-PODIUM Karlsruhe e.V.:MAILTO:info@piano-podium.de
LOCATION:Musentempel Karlsruhe
SUMMARY:Klavierabend ADRIAN BRENDLE
DESCRIPTION;ENCODING=QUOTED-PRINTABLE:Eintritt frei!=0D=0A=0D=0A
URL:https://kalender.karlsruhe.de/db/termine/musik/klavierabend_adrian_brendle
CLASS:PUBLIC
DTSTART:20260914T190000
DTEND:20260914T210000
DTSTAMP:20260330T124438
CATEGORIES:Musik
ATTACH:https://kalender.karlsruhe.de/db/termine/musik/klavierabend_adrian_brendle/file/icon_PiPo_Logo.jpg
END:VEVENT

END:VCALENDAR
