BEGIN:VCALENDAR
VERSION:2.0
CALSCALE:GREGORIAN
PRODID:https://kalender.karlsruhe.de/db/termine/
METHOD:PUBLISH
BEGIN:VEVENT
UID:580488
ORGANIZER;CN=PIANO-PODIUM Karlsruhe e.V.:MAILTO:info@piano-podium.de
LOCATION:Begegnungsstätte Grötzingen
SUMMARY:KLAVIERFEST
DESCRIPTION;ENCODING=QUOTED-PRINTABLE:Es spielen junge Solistinnen und Solisten des PIANO-PODIUMS Karlsruhe e.V. 
 Klavierwerke mit Orchester.=0D=0A=0D=0A
URL:https://kalender.karlsruhe.de/db/termine/musik/klavierfest-2
CLASS:PUBLIC
DTSTART:20261121T180000
DTEND:20261121T203000
DTSTAMP:20260330T124441
CATEGORIES:Musik
ATTACH:https://kalender.karlsruhe.de/db/termine/musik/klavierfest-2/file/icon_PiPo_Logo.jpg
END:VEVENT

END:VCALENDAR
