BEGIN:VCALENDAR
VERSION:2.0
CALSCALE:GREGORIAN
PRODID:https://kalender.karlsruhe.de/db/termine/
METHOD:PUBLISH
BEGIN:VEVENT
UID:580489
ORGANIZER;CN=PIANO-PODIUM Karlsruhe e.V.:MAILTO:info@piano-podium.de
LOCATION:Hochschule für Musik, Velte-Saal
SUMMARY:KLAVIERFEST
DESCRIPTION;ENCODING=QUOTED-PRINTABLE:Es spielen junge Solistinnen und Solisten des PIANO-PODIUMS Karlsruhe e.V. 
 Klavierwerke mit Orchester.=0D=0A=0D=0A  Mitwirkung:=C2=A0Karlsruher=C2=A0Kammerorc
 hester und Kammerorchester Komitas    unter=C2=A0der=C2=A0Leitung von=C2=A0
 Susanne=C2=A0Reiner=C2=A0und=C2=A0Matthias B=C3=B6hringer    Konzertmeister
 :=C2=A0Prof.=C2=A0Aram=C2=A0Badalian =20
URL:https://kalender.karlsruhe.de/db/termine/musik/klavierfest-3
CLASS:PUBLIC
DTSTART:20261122T170000
DTEND:20261122T193000
DTSTAMP:20260330T124441
CATEGORIES:Musik
ATTACH:https://kalender.karlsruhe.de/db/termine/musik/klavierfest-3/file/icon_PiPo_Logo.jpg
END:VEVENT

END:VCALENDAR
