BEGIN:VCALENDAR
VERSION:2.0
CALSCALE:GREGORIAN
PRODID:https://kalender.karlsruhe.de/db/termine/
METHOD:PUBLISH
BEGIN:VEVENT
UID:578931
ORGANIZER;CN=Laurentiusgemeinde Hagsfeld:MAILTO:
LOCATION:Gemeindezentrum der Laurentiusgemeinde Hagsfeld
SUMMARY:Klezmer und mehr
DESCRIPTION;ENCODING=QUOTED-PRINTABLE:Klezmermusik und einen Abstecher zur Klassik pr=C3=A4sentiert das Duo KLAri
 ssimo=0D=0A=0D=0A  Nicht zum ersten Mal gastiert das Duo =E2=80=9EKLArissimo=E2=80
 =9C im Gemeindezentrum Hagsfeld. Mit ihrem aktuellen Klezmer-Programm sind 
 Stefan Volz (Klarinette) sowie Heidrun Paulus (Klavier) zu h=C3=B6ren. =E2
 =80=9EKlezmer und mehr=E2=80=9C\, hei=C3=9Ft ihr Programm\, das sie nunmehr s
 eit knapp zehn Jahren vorstellen und immer wieder mit neuen St=C3=BCcken er
 g=C3=A4nzen. Neben Klezmer\, der ber=C3=BChrenden\, meist aus dem osteurop=C3
 =A4ischen Raum stammenden Musik\, macht das erfolgreiche Duo auch kurze Abst
 echer in den Bereich Klassik und Filmmusik. Und immer wieder werden interes
 sante Textbeitr=C3=A4ge eingestreut. =20
URL:https://kalender.karlsruhe.de/db/termine/musik/klezmer_und_mehr-4
CLASS:PUBLIC
DTSTART:20261010T190000
DTEND:
DTSTAMP:20260212T100245
CATEGORIES:Musik
ATTACH:https://kalender.karlsruhe.de/db/termine/musik/klezmer_und_mehr-4/file/icon_werbefoto.jpg
END:VEVENT

END:VCALENDAR
