BEGIN:VCALENDAR
VERSION:2.0
CALSCALE:GREGORIAN
PRODID:https://kalender.karlsruhe.de/db/termine/
METHOD:PUBLISH
BEGIN:VEVENT
UID:578608
ORGANIZER;CN=Die Orgelfabrik - Kultur in Durlach e.V., Amthausstraße 17-19, 76227 Karlsruhe:MAILTO:
LOCATION:OrgelFabrikSalon, Amthausstraße 17, Seitengebäude 1. OG, 76227 Karlsruhe (Durlach)
SUMMARY:KlezmerTouch (Trio) in concert
DESCRIPTION;ENCODING=QUOTED-PRINTABLE:Barbara Kohl (Querfl=C3=B6te\, Saxophone)\, Helga Betsarkis (Akkordeon)\, Bori
 s Reznik (Kontrabass\, Gitarre)=0D=0A=0D=0A    =0D=0A   Eine=C2=A0zeitlose Liebeserkl=C3
 =A4rung an die menschliche Seele und das Leben...      Das im Jahre 2021 ge
 gr=C3=BCndete Ensemble interpretiert und arrangiert Klezmermusik auf impuls
 ive und vielf=C3=A4ltige Weise. Das Trio verwebt Klezmermelodien gleich ein
 er Collage mit Blues-\, Jazz- und Swing-Elementen.  =0D=0A  =0D=0A  Die MusikerInnen
  begeben sich mit ihren Instrumenten auf eine intensiv erlebte musikalische
  Reise und bringen auch eigene Kompositionen sowie Lieder auf Jiddisch\, Rus
 sisch und Deutsch zu Geh=C3=B6r. Ob in ihrer Musik die lebensfrohen Melodie
 n der Klezmorim tanzen oder melancholisch\, zart ironische jiddische Weisen 
 klingen\, gleichwohl schwingt immer die zeitlose Liebeserkl=C3=A4rung an die
  menschliche Seele und das Leben mit.  =0D=0A  =0D=0A  Kontakt:  =0D=0A  KlezmerTouch@g
 mx.de =20
URL:https://kalender.karlsruhe.de/db/termine/musik/klezmertouch_trio_in_concert
CLASS:PUBLIC
DTSTART:20260618T193000
DTEND:20260618T210000
DTSTAMP:20260223T081258
CATEGORIES:Musik
ATTACH:https://kalender.karlsruhe.de/db/termine/musik/klezmertouch_trio_in_concert/file/icon_Foto KlezmerTouch Trio - Flyer_XXX.jpg
END:VEVENT

END:VCALENDAR
