BEGIN:VCALENDAR
VERSION:2.0
CALSCALE:GREGORIAN
PRODID:https://kalender.karlsruhe.de/db/termine/
METHOD:PUBLISH
BEGIN:VEVENT
UID:577695
ORGANIZER;CN=Café NUN / NUN Kulturraum e.V.:MAILTO:simon@nun.cafe
LOCATION:Café NUN
SUMMARY:Konzert: LENER
DESCRIPTION;ENCODING=QUOTED-PRINTABLE:=E2=80=9EYou=E2=80=99re on the driver=E2=80=99s seat and you=E2=80=99re dri
 ving me crazy.=E2=80=9C Klingt vielversprechend\, oder? Lener kommt Anfang M
 =C3=A4rz ins Caf=C3=A9 NUN =E2=80=93 kommt rum!  Das Konzert muss leider ve
 rschoben werden -> neuer Termin ist der 5.12.2026=0D=0A=0D=0A    =E2=80=9EYou=E2=80
 =99re on the driver=E2=80=99s seat and you=E2=80=99re driving me crazy.=E2
 =80=9C   =0D=0A    Klingt vielversprechend\, oder? Lener kommt im Dezember ins C
 af=C3=A9 NUN =E2=80=93 kommt rum!      Wann denn NUN?    =0D=0A     Samstag\, 05
 .12.2026=C2=A0 20:30 Uhr (Einlass: 19:00 Uhr)        Wo denn NUN?    =0D=0A    
  Caf=C3=A9 NUN\, Gottesauer Stra=C3=9Fe 35\, Karlsruhe      Tickets: VVK: 13\,
 00 =E2=82=AC | AK: 15\,00 | Tickets gibt es im NUN Onlineshop    Die Felder 
 gl=C3=BChen im letzten Licht\, ein  trockener Wind wirbelt Staub =C3=BCber d
 en Asphalt. Dort\, wo die Stadt  aufh=C3=B6rt und die Leere beginnt\, steht L
 ener im offenen Scheunentor. Die  Fender Strat h=C3=A4ngt tief\, die Jacke z
 u gro=C3=9F\, die Augen scharf. Eine  Gestalt wie ein Echo aus einer anderen
  Zeit =E2=80=93 oder einer\, die noch nicht  ganz existiert. Aufgewachsen au
 f einem abgelegenen Hof am Ende der  Stadt Freising\, zwischen Waldrand und 
 horizontaler Brache. Viele Jahre  dr=C3=B6hnten ihre verzerrten Gitarren in
  der leeren Scheune\, durch den alten  Bretterverschlag in die Ein=C3=B6de. 
 Nachts zirpte und heulte der anliegende  Wald. Auf Suche nach Hexen und Ges
 penstern schlich     Lener    mit ihren Drillingsschwestern durch die B=C3
 =A4ume\, sp=C3=A4ter auf der Pirsch  nach magischem Material f=C3=BCr ihre e
 rsten Songs. Heute streift die  26-j=C3=A4hrige mit Sketchbook durch den Wa
 ld der Stadt\, den verwunschenen  urbanen Orten zwischen Hauptbahnhof und Sc
 hwabing. Mit ihren 1\,75m ist  sie wie geboren f=C3=BCr Observationen\, schon
  fr=C3=BCh zog es sie in die  Zwischenr=C3=A4ume =E2=80=93 dorthin\, wo Wort
 e flie=C3=9Fen\, Linien verschwimmen und Musik  alles zusammenh=C3=A4lt. Die
  Songwriterin blickt durch den L=C3=A4rm der modernen  Welt auf das tiefe u
 nd teils banale Wesen der Dinge. Ruhig dechiffriert  sie die Tr=C3=A4ume ih
 rer Freundinnen und Kommilitonen\, in M=C3=BCnchner Caf=C3=A9s  und Clubs ge
 sammelte Mosaike aus Selbstgespr=C3=A4chen einer Generation  zwischen Optim
 ierung und Punk. Ihre Outsider-Position ist selbst gew=C3=A4hlt  und eine k
 lassische Perspektive der Lyrik: zwischen allen St=C3=BChlen\, als  stoische
  Beobachterin vor kollabierenden Gitarrenw=C3=A4nden. Ihre Stimme  rollt 
 =C3=BCber die Riffs wie ein langsam aufziehendes Gewitter\, zwischen  Barnet
 ts L=C3=A4ssigkeit und Patti Smiths fiebriger Unruhe. Die Melodien  taumeln
  zwischen Ersch=C3=B6pfung und Trotz\, die Texte sind Skizzen auf  zerkn=C3
 =BClltem Papier =E2=80=93 rau\, unfertig\, ehrlich. Texte wie kleine  Comic-O
 rakel\, geschrieben mit Edding und Herzblut. Dazu glitzert eine  Bildwelt au
 s Skizzen =E2=80=93 d=C3=BCstere\, verzweigte Figuren\, oft so br=C3=BCchig u
 nd  fl=C3=BCchtig wie die Geschichten\, die sie erz=C3=A4hlt.      You=E2=80
 =99re on the driver=E2=80=99s seat and you=E2=80=99re driving me crazy.    
   Ein Satz\, so simpel und doch ein ganzer  Mythos in sich\, gesprochen mit h
 alb sp=C3=B6ttischem\, halb verzweifeltem  L=C3=A4cheln. Man sieht es vor si
 ch: Das flackernde Neonlicht auf der  Windschutzscheibe\, die verschwommenen
  Lichter einer Stadt\, die sich  immer schneller im R=C3=BCckspiegel verlier
 t. Ein Beifahrersitz voller  Zweifel\, eine Hand am Lenkrad\, die zu fest zud
 r=C3=BCckt. Wohin die Fahrt  geht? Egal =E2=80=93 Hauptsache\, sie rast\, Hau
 ptsache\, sie f=C3=BChlt sich an wie  etwas\, das nicht stillstehen kann. Len
 ers Songs sind Hymnen auf das\, was  war\, was h=C3=A4tte sein k=C3=B6nnen\, u
 nd auf den Mut\, trotzdem weiterzugehen.  =E2=80=9EMaybe in another life=E2
 =80=9C\, singt sie\, w=C3=A4hrend das Schlagzeug wie eine  rasende Gedankenfl
 ut darunter brodelt. Eine Hymne f=C3=BCr all die  Entscheidungen\, die nicht
  getroffen wurden\, f=C3=BCr all die Abzweigungen\,  die ins Ungewisse f=C3
 =BChrten. Eine Zeile f=C3=BCr diejenigen\, die nachts wach  liegen und sich 
 fragen\, was passiert w=C3=A4re\, wenn=E2=80=A6 =E2=80=93 doch genau darin  l
 iegt ihre Kraft: in der Erkenntnis\, dass es egal ist. Dass jede  Richtung e
 ine ist\, solange sie sich echt anf=C3=BChlt. Lener singt diese  Zeile nicht
 \, sie schleudert sie sanft dem Universum entgegen\, begleitet  von Max W=C3
 =B6rle\, der mit jedem Schlag auf die Snare eine neue Schneise in  den Abend
  rei=C3=9Ft. Ihre Band ist kein blo=C3=9Fes Pop-Beiwerk\, sondern eine  puls
 ierende Maschine aus Rhythmus und Energie\, ein Vehikel f=C3=BCr das\, was  g
 esagt werden muss. Leners Gitarre knurrt und dr=C3=B6hnt dazu mal mit der  
 Wucht von Josh Homme\, mal mit der schr=C3=A4gen Eleganz von St. Vincent.  G
 runge war schon immer eine Musik f=C3=BCr die Suchenden\, f=C3=BCr die\, die 
  zwischen Euphorie und Kontrollverlust taumeln. Und genau dort setzt  Lener
  an =E2=80=93 irgendwo zwischen Aufbruch und Abgrund. So steht sie f=C3=BCr
  eine  neue Generation von Songwriter:innen\, die Emotionen nicht filtern\,  
 sondern transformieren =E2=80=93 in verzerrte Gitarren\, br=C3=BCchige Harmo
 nien und  Texte\, die nachhallen wie ein Echo aus einer l=C3=A4ngst vergange
 nen Zukunft.  Die Stra=C3=9Fe wird immer schmaler. Die Motoren heulen auf. 
 Und dann? Dann  kommt der n=C3=A4chste Song.      Tour 2026      29.01.26 S
 tuttgart =E2=80=93 Merlin (POP FREAKS)  =0D=0A  19.02.26 Weiden =E2=80=93 Die S
 =C3=BCnde (Klein & Kunst)  =0D=0A  26.02.26 Bamberg =E2=80=93 =E2=80=9EMorph=E2
 =80=9C im Vereinshain  =0D=0A  21.03.26 Pfarrkirchen =E2=80=93 Spitalkirche=C2
 =A0 supporting Suzan K=C3=B6cher=E2=80=99s Suprafon  =0D=0A  18.04.26 Passau 
 =E2=80=93 Zeughaus  =0D=0A  22.04.26 K=C3=B6ln =E2=80=93 die Wohngemeinschaft  
 =0D=0A  24.04.26 Hamburg =E2=80=93 Hafenklang  =0D=0A  25.04.26 Husum =E2=80=93 Spe
 icher     supporting Stina Holmquist    =0D=0A  26.04.26 Leer (Ostfriesland) 
 =E2=80=93 Zollhaus  =0D=0A  02.05.26 Freising =E2=80=93 Freisinger Nacht der Mu
 sik  =0D=0A  22./24.05.26 Beverungen =E2=80=93 Orange Blossom Special Festival 
  =0D=0A  23.05.26 G=C3=B6ttingen =E2=80=93 N=C3=B6rgelbuff  =0D=0A  03.07.26 Zittau
  =E2=80=93 Lonesome Lake Festival  =0D=0A  01.08.26 Breitenbach =E2=80=93 Burg 
 Herzberg Festival  =0D=0A  21.10.26 Dresden =E2=80=93 Ostpol  =0D=0A  23.10.26 Rege
 nsburg =E2=80=93 Alte M=C3=A4lzerei  =0D=0A  29.10.26 Langenberg =E2=80=93 KGB 
  =0D=0A  30.10.26 Rheinberg =E2=80=93 Schwarzer Adler (Pflug & Segen)    NEU: 0
 5.12.26 Karlsruhe =E2=80=93 NUN Kulturraum  =0D=0A    =0D=0A =20
URL:https://kalender.karlsruhe.de/db/termine/musik/konzert_lener
CLASS:PUBLIC
DTSTART:20261205T203000
DTEND:20261205T230000
DTSTAMP:20260128T094614
CATEGORIES:Musik
ATTACH:https://kalender.karlsruhe.de/db/termine/musik/konzert_lener/file/icon_Lener-Press-Picture-01-Credits-Lukas-Klotzbach.jpg
END:VEVENT

END:VCALENDAR
