BEGIN:VCALENDAR
VERSION:2.0
CALSCALE:GREGORIAN
PRODID:https://kalender.karlsruhe.de/db/termine/
METHOD:PUBLISH
BEGIN:VEVENT
UID:580698
ORGANIZER;CN=Café NUN / NUN Kulturraum e.V.:MAILTO:simon@nun.cafe
LOCATION:Café NUN
SUMMARY:Konzert: Low Key Orchestra | Café NUN
DESCRIPTION;ENCODING=QUOTED-PRINTABLE:S=C3=B6nke Torpus tr=C3=A4gt den Norden in sich: aufgewachsen als Nordfries
 e\, verwurzelt in der Hamburger Folk-Szene mit seiner Band Torpus & the Art 
 Directors.Mit seinem Soloprojekt kommt er ins NUN=0D=0A=0D=0A    S=C3=B6nke Torpus 
    tr=C3=A4gt den Norden in sich: aufgewachsen als Nordfriese\, verwurzelt i
 n der Hamburger Folk-Szene mit seiner Band       Torpus & the Art Directors
       \,  und stets auf der Suche nach dem perfekten Klang =E2=80=93 nicht n
 ur auf der  B=C3=BChne\, sondern auch als Toningenieur im eigenen Studio. Mi
 t seinem  Soloprojekt     Low Key Orchestra    zeigt er eine neue\, leise  u
 nd zugleich eindringliche Facette seines Schaffens. Am 4. Dezember  haben w
 ir eine Verabredung mit ihm um NUN und laden euch herzlich dazu  ein:      
 Low Key Orchestra        WANN DENN NUN?    =0D=0A  Freitag\, 4. Dezember 2026 20
 :30 Uhr (Einlass 19:00 Uhr)  =0D=0A     =0D=0A   WO DENN NUN?    =0D=0A  Caf=C3=A9 NUN\,
  Gottesauer Stra=C3=9Fe 35\, Karlsruhe    Tickets: VVK: 13\,00 =E2=82=AC | AK
 : 15\,00 =E2=82=AC | Tickets gibts im NUN-Ticketshop    Mehr =C3=BCber     L
 ow Key Orchestra    : Facebook | Instagram | Bandcamp | Qobuz |      low ke
 y orchestra    . Mehr  Understatement in einem Bandnamen geht nicht. Der wi
 rklich unpassendste =E2=80=93  und damit passendste =E2=80=93 Name wurde da
  von S=C3=B6nke Torpus f=C3=BCr etwas  gefunden\, das\, ohne =C3=BCbertreiben
  zu wollen\, musikalisch wirklich  Gro=C3=9Fartiges birgt.    Aber erstmal k
 urz von vorne. low key  orchestra ist das neue Bandprojekt des eben genannt
 en. Allen  Indie-Folk-Connaisseuren unter uns wird seine ehemalige Band Tor
 pus  & the Art Directors ein Begriff bzw. in guter Erinnerung sein und  die
  Freude ins Gesicht geschrieben stehen\, dass nun neue Musik vor der  T=C3
 =BCr der Lieblingslieder steht. =E2=80=9Emaybe words=E2=80=9C hie=C3=9F der
  erste von mehreren  low key orchestra Songs\, die dieses Jahr ver=C3=B6ffen
 tlicht werden und es  ist schlichtweg ein wundervolles Lied. S=C3=B6nke ist
  eine kleine Hymne f=C3=BCr  all jene gelungen\, die eine ausgestreckte Hand
  oder ein offenes Ohr  ben=C3=B6tigen. Als h=C3=A4tte er sich gedacht: =E2
 =80=9EWenn ich nicht in deiner N=C3=A4he  sein kann\, dann bekommst du immer
 hin einen Refrain\, der mehr Trost  spendet als 1000 Umarmungen.=E2=80=9D   
      Maybe words can help you / Maybe lines that care      =0D=0A       I can s
 ense your trouble / And I feel you there        Aus jeder Zeile spricht auf
 richtiges  Mitgef=C3=BChl. Zusammen mit dem Produzenten Helgi Helgasson hat
  S=C3=B6nke es  geschafft\, einen unausweichbaren Text in warme und facetten
 reiche Musik  zu =C3=BCbersetzen. Soundtechnisch schwebt das low key orches
 tra =E2=80=93 vor allem  hierzulande =E2=80=93 sehr eigenst=C3=A4ndig in ei
 ner Klang- und Gef=C3=BChlswelt\, die von  Bands wie Bright Eyes\, Whitney un
 d den Flaming Lips gepr=C3=A4gt wurde. Im  Songwriting hingegen fnden sich 
 Parallelen zu fr=C3=BChen Alben von Coldplay  oder Keane. S=C3=B6nke sagt 
 =C3=BCber sich selbst\, er habe die Musik f=C3=BCr eine  lange Zeit verloren
 . Zu unserem Gl=C3=BCck hat er sie =E2=80=93 oder vielleicht auch  sie ihn 
 =E2=80=93 wiederentdeckt =20
URL:https://kalender.karlsruhe.de/db/termine/musik/konzert_low_key_orchestra_cafe_nun
CLASS:PUBLIC
DTSTART:20261204T203000
DTEND:20261204T230000
DTSTAMP:20260407T115416
CATEGORIES:Musik
ATTACH:https://kalender.karlsruhe.de/db/termine/musik/konzert_low_key_orchestra_cafe_nun/file/icon_low-key-orchestra-insta-post.jpg
END:VEVENT

END:VCALENDAR
