BEGIN:VCALENDAR
VERSION:2.0
CALSCALE:GREGORIAN
PRODID:https://kalender.karlsruhe.de/db/termine/
METHOD:PUBLISH
BEGIN:VEVENT
UID:577696
ORGANIZER;CN=Café NUN / NUN Kulturraum e.V.:MAILTO:simon@nun.cafe
LOCATION:NUN Kulturraum e.V.
SUMMARY:Konzert: Nick Wheeldon & St. Moon
DESCRIPTION;ENCODING=QUOTED-PRINTABLE:Seit einigen Jahren wohnt und arbeitet Nick Wheeldon - urspr=C3=BCnglich au
 s Sheffield (UK) - in Paris. Dort hat er sich einen guten Ruf als kreativer
  und genre=C3=BCbergreifender Musiker erarbeitet und ist in zahlreichen Pro
 jekten und Bands aktiv. Seit 2021 hat er zudem vier Solo-Alben ver=C3=B6ffe
 ntlicht und kommt damit auch im NUN vorbei:=0D=0A=0D=0A  Seit einigen Jahren wohnt 
 und arbeitet     Nick Wheeldon    - urspr=C3=BCnglich aus Sheffield (UK) - 
 in Paris. Dort hat er sich einen guten Ruf als kreativer und genre=C3=BCber
 greifender Musiker erarbeitet und ist in zahlreichen Projekten und Bands ak
 tiv. Seit 2021 hat er zudem vier Solo-Alben ver=C3=B6ffentlicht und kommt d
 amit auch im NUN vorbei:      WANN DENN NUN?    =0D=0A  Samstag\, 25.04.2026 20:
 00 Uhr (Einlass: 19:00 Uhr)      WO DENN NUN?    =0D=0A  Caf=C3=A9 NUN\, Gottesa
 uer Stra=C3=9Fe 35\, Karlsruhe    Tickets: VVK 12\,00 =E2=82=AC | AK 14\,00 
 =E2=82=AC | Tickets gibt es im NUN-Onlineshop    Mehr =C3=BCber     Nick Wh
 eeldon:    Website     |    Facebook=C2=A0|=C2=A0Instagram=C2=A0|=C2=A0Spot
 ify | Youtube | Bandcamp      Nick Wheeldon      Nick Wheeldons Musik umfas
 st vier Alben voller zeitlosem Songwriting\, dessen Vielseitigkeit von der E
 motionalit=C3=A4t seines br=C3=BCchigen Timbres zusammengehalten wird. Mal 
 tut sich in seinen Songs ein Abgrund auf\, anderswo kanalisieren sie die Lak
 onik seiner Outsider-Folk-Vorbilder. W=C3=A4hrend er selbst Gene Clark und 
 Alex Chilton als Einfl=C3=BCsse benennt\, erinnert sein Songwriting andernor
 ts an das von Jason Molina (Songs:Ohia) oder Daniel Johnston. "Make Art"\, s
 ein viertes Album\, ist ein Kollaborationsprojekt\, das er zusammen mit befre
 undeten Musikern aus der Free-Jazz- und Soul-Szene =C3=BCber analoge Mehrsp
 urrekorder aufgenommen hat. Auf seiner Tour durch Deutschland und die Schwe
 iz im Fr=C3=BChjahr 2026 wird er die teils wilden Kompositionen wieder in r
 eduzierte\, einnehmende Folk-Songs zur=C3=BCckverwandeln. Au=C3=9Ferdem wird
  er neues Material von zwei Alben mit im Gep=C3=A4ck haben\, die beide 2026 
 erscheinen werden.      St. Moon      St. Moon ist ein grenz=C3=BCberschrei
 tendes Band-Projekt\, bestehend aus Alex Keiling und zwei Musikern der Indie
 -Folk Band Lambs & Wolves.=C2=A0 "Grenz=C3=BCberschreitend" ist hier in ein
 em doppelten Sinne zu verstehen:=C2=A0 Zum einen stammen die Mitglieder aus
  Frankreich und Deutschland\; zum=C2=A0 anderen verfolgten sie mit ihrer bis
 heriger Musik durchaus=C2=A0 unterschiedliche Agenden. Jedoch hallten im Fo
 lk-Sound beider Projekten=C2=A0 gemeinsame Einfl=C3=BCsse nach. So fanden s
 ie etwa _common ground_ im=C2=A0 US-Slowcore der 90er und in legend=C3=A4re
 n Alben des Outsider-Folks von=C2=A0 Bill Callahan und Jason Molina. Im Som
 mer 2025 entstand auf dieser Basis=C2=A0 eine Deb=C3=BCt-EP\, auf der sich n
 eben eigenen Kompositionen auch ein=C2=A0 geisterhaftes Cover des Josephine
 -Foster-Klassikers "Child of God" findet      Nick Wheeldon - Tour 2026    
   13. M=C3=A4rz - Paris  =0D=0A  3. April - Toulouse  =0D=0A  4. April - Bordeaux  
 =0D=0A  5. April - B=C3=A9arn  =0D=0A  7. April - Nantes  =0D=0A  10. April - Montreuil
   =0D=0A  11. April - Lille  =0D=0A  24. April - Stuttgart  =0D=0A     25. April - Karl
 sruhe    =0D=0A  26. April - Colmar  =0D=0A  27. April - Freiburg  =0D=0A  30. April - 
 Hamburg  =0D=0A  2. Mai - Rinkerode    =0D=0A =20
URL:https://kalender.karlsruhe.de/db/termine/musik/konzert_nick_wheeldon_st_moon
CLASS:PUBLIC
DTSTART:20260425T200000
DTEND:20260425T230000
DTSTAMP:20260107T123121
CATEGORIES:Musik
ATTACH:https://kalender.karlsruhe.de/db/termine/musik/konzert_nick_wheeldon_st_moon/file/icon_Nick_Wheeldon.jpg
END:VEVENT

END:VCALENDAR
