BEGIN:VCALENDAR
VERSION:2.0
CALSCALE:GREGORIAN
PRODID:https://kalender.karlsruhe.de/db/termine/
METHOD:PUBLISH
BEGIN:VEVENT
UID:579541
ORGANIZER;CN=Café NUN / NUN Kulturraum e.V.:MAILTO:simon@nun.cafe
LOCATION:Café NUN
SUMMARY:Konzert: Sean Pratt (Country/Folk) | Café NUN Karlsruhe
DESCRIPTION;ENCODING=QUOTED-PRINTABLE:Der aus Omaha stammende Sean Pratt ist ein US-amerikanischer Folk-Gitarrist
 \, S=C3=A4nger und Songwriter mit warmem\, zeitlosem Sound und einem feinen G
 esp=C3=BCr f=C3=BCr leise Zwischent=C3=B6ne. Im Herbst kommt er f=C3=BCr ei
 nige Konzerte nach Europa und spielt am 7. November bei uns im NUN=0D=0A=0D=0A  Der
  aus Omaha stammende Sean Pratt ist ein US-amerikanischer Folk-Gitarrist\, S
 =C3=A4nger und Songwriter mit warmem\, zeitlosem Sound und einem feinen Gesp
 =C3=BCr f=C3=BCr leise Zwischent=C3=B6ne.  =0D=0A  Im Herbst kommt er f=C3=BCr 
 einige Konzerte nach Europa und spielt am     7. November    bei uns im    
  NUN    =0D=0A      WANN DENN NUN?    =0D=0A  Samstag\, 07.11.2026 20:30 Uhr (Einlas
 s: 19:00 Uhr)      WO DENN NUN?    =0D=0A  Caf=C3=A9 NUN\, Gottesauer Stra=C3=9F
 e 35\, Karlsruhe    Tickets: VVK 12\,00 =E2=82=AC | AK 14\,00 =E2=82=AC | Tick
 ets gibt es im NUN-Onlineshop    Sein Freund Simon Joyner beschrieb den Fol
 k-Musiker Sean Pratt aus Nebraska einst als einen =E2=80=9Evollendeten Song
 writer des Mittleren Westens". Als solcher sei ihm bewusst\, dass menschlich
 es Leben durch impressionistische Vignetten viel ehrlicher dargestellt werd
 en k=C3=B6nne als durch theatralische Plots. Die St=C3=A4rke seiner Songs l
 iege darin\, =E2=80=9Edass sie uns gerade so viel von einer Geschichte erz
 =C3=A4hlen\, dass wir uns wirklich f=C3=BCr die Figuren interessieren =E2=80
 =93 dass wir uns fragen\, woher diese Menschen kommen\, und uns einbilden\, wi
 r w=C3=BCssten auch\, wohin sie gehen." Diese Geschichten erz=C3=A4hlt uns P
 ratt =C3=BCber skizzenhafte Folk-Songs\, die zwar stets in den Landschaften 
 seiner Heimat verwurzelt scheinen\; die jedoch =E2=80=93 so beschreibt es se
 ine Kollegin Lou Turner (Styrofoam Winos\, Ryan Davis & the Roadhouse Band) 
 =E2=80=93 =E2=80=9Enach au=C3=9Fen strahlen\, wie das flackerndes Licht auf 
 einer Veranda an einer Stra=C3=9Fenbiegung".  =0D=0A      =E2=80=9EThe unbroken
  horizon of the American steppe reigns over Sean Pratt=E2=80=99s Prairie Wh
 istle Call.=C2=A0Over the course of its nine cuts\, the songwriter distills 
 desolation and grandiose into a deeply personal and downright gorgeous ode 
 to the golden roads and rolling fields he sings of.=E2=80=9C    =E2=80=93  
    Aquarium Drunkard        =E2=80=9EOn=C2=A0Prairie Whistle Call\, Sean Pra
 tt merges timeless sounds with modern sensibilities. Speaking from the hear
 t\, he feels the wind of the plains in his bones\, distilling it with simple 
 truths for anyone willing to listen.=E2=80=9C    =E2=80=93     KLOF    =0D=0A  
   =0D=0A =20
URL:https://kalender.karlsruhe.de/db/termine/musik/konzert_sean_pratt_countryfolk_cafe_nun_karlsruhe
CLASS:PUBLIC
DTSTART:20261107T203000
DTEND:20261107T230000
DTSTAMP:20260224T085039
CATEGORIES:Musik
ATTACH:https://kalender.karlsruhe.de/db/termine/musik/konzert_sean_pratt_countryfolk_cafe_nun_karlsruhe/file/icon_Sean_Pratt_querformat.jpg
END:VEVENT

END:VCALENDAR
