BEGIN:VCALENDAR
VERSION:2.0
CALSCALE:GREGORIAN
PRODID:https://kalender.karlsruhe.de/db/termine/
METHOD:PUBLISH
BEGIN:VEVENT
UID:577374
ORGANIZER;CN=Café NUN / NUN Kulturraum e.V.:MAILTO:simon@nun.cafe
LOCATION:Café NUN
SUMMARY:Konzert: Sophie Chassée
DESCRIPTION;ENCODING=QUOTED-PRINTABLE:Wir freuen uns auf Sophie Chass=C3=A9e\, die im Oktober zum ersten Mal im NU
 N vorbei schaut:=0D=0A=0D=0A  Wir freuen uns auf Sophie Chass=C3=A9e\, die im Oktobe
 r zum ersten Mal im NUN vorbei schaut:      Wann denn NUN?    =0D=0A     Samsta
 g\, 24.10.2026=C2=A0 20:30 Uhr (Einlass: 19:00 Uhr)        Wo denn NUN?    $
 $     Caf=C3=A9 NUN\, Gottesauer Stra=C3=9Fe 35\, Karlsruhe      Tickets: VVK
 : 13\,00 =E2=82=AC | AK: 15\,00 | Tickets gibt es im NUN Onlineshop    Mehr 
 =C3=BCber     Sophie Chass=C3=A9e:    Youtube | Instagram |=C2=A0 Spotify |
  Facebook      Sophie Chass=C3=A9e    =E2=80=93 Modern Fingerstyle & Songwr
 iting mit Tiefe     =0D=0A    Sophie Chass=C3=A9e steht fu=CC=88r technisch ans
 pruchsvolles Gitarrenspiel\, musikalische Tiefe und intensive Konzertmomente
 . Ihr filigranes Modern-Fingerstyle-Gitarrenspiel\, inspiriert von Ku=CC=88n
 stlern wie Andy McKee oder Ben Howard\, trifft auf eine Stimme\, die unter di
 e Haut geht. In ihren englischsprachigen Songs erz=C3=A4hlt sie mit feinem 
 Gespu=CC=88r fu=CC=88r Zwischent=C3=B6ne von Liebe\, Ver=C3=A4nderung\, Freun
 dschaft und Selbstreflexion =E2=80=93 mal melancholisch\, mal hoffnungsvoll\,
  immer nahbar. Mit ihrem aktuellen Soloalbum Attachment Theory (V=C3=96 202
 4) macht sie erneut in der Gitarrenszene auf sich aufmerksam und teilt sich
  mittlerweile Bu=CC=88hnen mit internationalen Gr=C3=B6=C3=9Fen wie Jon Gom
 m\, Joscho Stephan oder Mike Dawes. Sophie Chass=C3=A9e verbindet virtuoses 
 Gitarrenspiel mit emotionalem Storytelling =E2=80=93 und schafft Konzerterl
 ebnisse\, die beru=CC=88hren und bleiben!        =E2=80=9EModern Fingerstyle
  legend in the making!=E2=80=9C      =0D=0A  Jon Gomm        =E2=80=9EShe=E2=80
 =99s a great musician and really gets the nature of solo guitar\, beautiful 
 genuine music.=E2=80=9C      =0D=0A  Andy McKee =20
URL:https://kalender.karlsruhe.de/db/termine/musik/konzert_sophie_chassee
CLASS:PUBLIC
DTSTART:20261024T203000
DTEND:20261024T230000
DTSTAMP:20251216T085152
CATEGORIES:Musik
ATTACH:https://kalender.karlsruhe.de/db/termine/musik/konzert_sophie_chassee/file/icon_Christian-Olschina_6.jpg
END:VEVENT

END:VCALENDAR
