BEGIN:VCALENDAR
VERSION:2.0
CALSCALE:GREGORIAN
PRODID:https://kalender.karlsruhe.de/db/termine/
METHOD:PUBLISH
BEGIN:VEVENT
UID:577373
ORGANIZER;CN=Café NUN / NUN Kulturraum e.V.:MAILTO:simon@nun.cafe
LOCATION:Café NUN
SUMMARY:Konzert: Stina Holmquist (Solo)
DESCRIPTION;ENCODING=QUOTED-PRINTABLE:Es ist noch nicht allzu lange her\, dass Stina Holmquist mit ihrer Band bei 
 uns zu Gast war =E2=80=93 und doch hat sich seither viel getan!=0D=0A=0D=0A  Mit ih
 rer neuen EP =E2=80=9EIf All My Hopes Find Answers=E2=80=9C\, renommierten L
 ive-Auftritten und gro=C3=9Fem Lob von der Presse zeigt sie eindrucksvoll\, 
 wohin die Reise geht. Im Herbst 2026 kehrt Stina solo zur=C3=BCck auf Tour 
 =E2=80=93 wir freuen uns auf ein Wiedersehen mit dieser au=C3=9Fergew=C3=B6
 hnlichen Musikerin!      Stina Holmquist (Solo)      WANN DENN NUN?  =0D=0A  Fr
 eitag\, 09.10.2026 20:30 Uhr (Einlass: 19:00 Uhr)    WO DENN NUN?  =0D=0A  Caf
 =C3=A9 NUN\, Gottesauer Stra=C3=9Fe 35\, Karlsruhe    Tickets: VVK 13\,00 =E2
 =82=AC | AK 15\,00 =E2=82=AC | Tickets gibt es im NUN Onlineshop      Stina 
 Holmquist    hat einen eigenen\, unverwechselbaren Indie- und Art-Pop entwic
 kelt\, in dem atmosph=C3=A4risch und gro=C3=9F angelegte Indie-Sounds immer 
 wieder u=CC=88berraschend von energiegeladenen Momenten durchbrochen werden
 . Mit ihrer Band entstehen hypnotische\, beinahe atemlos machende Songstrukt
 uren in Verbindung mit gesanglich beeindruckenden Eskapaden. Stina erz=C3
 =A4hlt dabei in ihren Songs Geschichten\, die tief in der Popmusik verankert
  sind =E2=80=93 und doch heute nur selten so tiefgru=CC=88ndig und poetisch
  vorgetragen werden.    Dabei blickt Stina (Holmquist ist der Name ihres sc
 hwedischen Gro=C3=9Fvaters) in ihrer kurzen\, aber intensiven musikalischen 
 Reise schon jetzt auf beeindruckende Meilensteine zuru=CC=88ck: 150 Livekon
 zerte in drei Bu=CC=88hnenjahren in der Republik und im benachbarten Auslan
 d (Warschau\, Zu=CC=88rich\, Wien) =E2=80=93 darunter auch als Support-Act fu
 =CC=88r die deutschen Indie-Gr=C3=B6=C3=9Fen Giant Rooks und Leoniden\; reno
 mmierte Festivalshows vom Reeperbahn- bis zum Orange Blossom-\, Traumzeit- o
 der Juicy Beats Festival und zuletzt beim WDR Rockpalast. Sie ist Gewinneri
 n des Lalla:Labor-F=C3=B6rderpreises\, nahm am Bundesf=C3=B6rderprogramm =E2
 =80=9EPop Camp=E2=80=9C teil und wurde als =E2=80=9EBeste Newcomerin=E2=80
 =9C fu=CC=88r den PopNRW-Preis nominiert.    Im November 2025 erschien die 
 zweite EP von Stina Holmquist =E2=80=9EIf All My Hopes Find Answers=E2=80
 =9C =E2=80=93 produziert von Alex Sprave (Fil Bo Riva) und Jochen Naaf (Gia
 nt Rooks). Die EP wird auf einer anschlie=C3=9Fenden Tour in 2026 pr=C3=A4s
 entiert.    =0D=0A =20
URL:https://kalender.karlsruhe.de/db/termine/musik/konzert_stina_holmquist_solo
CLASS:PUBLIC
DTSTART:20261009T203000
DTEND:20261009T230000
DTSTAMP:20251216T085018
CATEGORIES:Musik
ATTACH:https://kalender.karlsruhe.de/db/termine/musik/konzert_stina_holmquist_solo/file/icon_EP-Cover-By-Sandra-Ludewig-scaled quer.jpg
END:VEVENT

END:VCALENDAR
