BEGIN:VCALENDAR
VERSION:2.0
CALSCALE:GREGORIAN
PRODID:https://kalender.karlsruhe.de/db/termine/
METHOD:PUBLISH
BEGIN:VEVENT
UID:578768
ORGANIZER;CN=Café NUN / NUN Kulturraum e.V.:MAILTO:simon@nun.cafe
LOCATION:NUN Kulturraum e.V.
SUMMARY:Konzert: The Stamps (Aus)
DESCRIPTION;ENCODING=QUOTED-PRINTABLE:Wir freuen uns sehr\, das australische Trio The Stamps bei uns im NUN begr
 =C3=BC=C3=9Fen zu d=C3=BCrfen. Ihre Musik schafft genau das\, was wir hier l
 ieben: eine ehrliche Verbindung zwischen T=C3=B6nen\, Gef=C3=BChlen und Mens
 chen.=0D=0A=0D=0A  The Stamps      Wann denn NUN?    =0D=0A     Samstag\, 16.05.2026=C2
 =A0 20:30 Uhr (Einlass: 19:00 Uhr)        Wo denn NUN?    =0D=0A     Caf=C3=A9 
 NUN\, Gottesauer Stra=C3=9Fe 35\, Karlsruhe      Tickets: VVK: 13\,00 =E2=82
 =AC | AK: 15\,00 | Tickets gibt es im NUN Onlineshop    Mehr =C3=BCber The S
 tamps: Instagram | Spotify | YouTube      The Stamps      Nachdem  Sofia Ho
 urani\, Rubina Bertolini und Scarlett Graham in ihrer Heimat  Perth bereits 
 f=C3=BCr Aufsehen gesorgt haben\, bringen sie ihren  unverkennbaren Sound nu
 n in die Oststadt. Ihr Indie-Pop ist eine  Mischung aus rauer Direktheit un
 d einem sanften Leuchten =E2=80=93 gewachsen aus  der tiefen Chemie dreier 
 bester Freundinnen.    Stilistisch  bewegen sie sich zwischen dem euphorisc
 hen Schimmer von MUNA und der  unaufgeregten Coolness von Royel Otis. In ih
 ren Songs verarbeiten sie  die fl=C3=BCchtigen Momente sp=C3=A4ter N=C3=A4c
 hte und die feinen Nuancen des  Erwachsenwerdens. Ihre aktuelle Single Mari
 a (produziert von Alex  Burnett) zeigt die Band dabei von ihrer klarsten Se
 ite: dichte  Harmonien und ein Funke\, der sich gleicherma=C3=9Fen gef=C3=A4
 hrlich wie lebendig  anf=C3=BChlt.    Die  Songs der Stamps sind so ehrlich
  wie atmosph=C3=A4risch und laden dazu ein\,  f=C3=BCr einen Moment in ihre 
 Welt einzutauchen =E2=80=93 eine Welt\, in der Popmusik  hart treffen kann u
 nd trotzdem zutiefst pers=C3=B6nlich bleibt. Ein Abend\,  der ungeschliffen 
 und elektrisierend zugleich ist. =20
URL:https://kalender.karlsruhe.de/db/termine/musik/konzert_the_stamps_aus
CLASS:PUBLIC
DTSTART:20260516T203000
DTEND:20260516T220000
DTSTAMP:20260205T110441
CATEGORIES:Musik
ATTACH:https://kalender.karlsruhe.de/db/termine/musik/konzert_the_stamps_aus/file/icon_stamps20262.jpg
END:VEVENT

END:VCALENDAR
