BEGIN:VCALENDAR
VERSION:2.0
CALSCALE:GREGORIAN
PRODID:https://kalender.karlsruhe.de/db/termine/
METHOD:PUBLISH
BEGIN:VEVENT
UID:578930
ORGANIZER;CN=Substage Karlsruhe e.V.:MAILTO:info@substage.de
LOCATION:Substage Karlsruhe e.V.
SUMMARY:LAGWAGON
DESCRIPTION;ENCODING=QUOTED-PRINTABLE:Support: BOKASSA LET'S TALK ABOUT HOSS=0D=0A=0D=0A  Die legend=C3=A4re Punkband Lag
 wagon aus Kalifornien hat f=C3=BCr den Sommer 2026 eine erweiterte Europato
 ur angek=C3=BCndigt. Im Mittelpunkt steht eines der beliebtesten Alben ihre
 s Katalogs: HOSS. Bei allen Headliner-Clubshows wird die Band HOSS komplett
  =E2=80=93 von vorne bis hinten =E2=80=93 live spielen und zus=C3=A4tzlich 
 ausgew=C3=A4hltes weiteres Material pr=C3=A4sentieren. Bei Festivalauftritt
 en erwartet die Fans ein karriere=C3=BCbergreifendes Set mit Fan-Favoriten 
 aus allen Alben\, darunter Songs von HOSS sowie ausgew=C3=A4hlte Rarit=C3=A4
 ten.  =0D=0A  Urspr=C3=BCnglich 1995 ver=C3=B6ffentlicht\, gilt HOSS bis heute a
 ls wegweisendes Album der goldenen =C3=84ra des melodischen Punkrocks und v
 ereint Lagwagons charakteristische Mischung aus Geschwindigkeit\, Melodie un
 d emotionaler Tiefe. Drei Jahrzehnte sp=C3=A4ter inspirieren die Songs weit
 erhin Generationen von Fans und Musiker*innen.  =0D=0A  =E2=80=9EIch liebe es i
 mmer\, ein =C3=A4lteres Album komplett zu spielen\, weil wir dadurch in der Z
 eit zur=C3=BCckreisen k=C3=B6nnen=E2=80=9C\, sagt Frontmann Joey Cape. =E2
 =80=9EDie Band kehrt in ein fr=C3=BCheres Leben zur=C3=BCck. Wir haben die 
 M=C3=B6glichkeit\, einige der weniger gespielten Songs dieses Albums wiederz
 uentdecken =E2=80=93 St=C3=BCcke\, die wir normalerweise nicht live spielen.
  Hoss aufzuf=C3=BChren ist etwas Besonderes\, weil langj=C3=A4hrige Lagwagon
 -Fans wieder auftauchen und gemeinsam mit uns in diese fr=C3=BChen Tage ein
 tauchen.=E2=80=9C  =0D=0A  Die Tour wird Lagwagons anhaltendes Verm=C3=A4chtnis
  und ihre ungebrochene Energie als eine der einflussreichsten Punkrock-Band
 s feiern. Geplant sind Auftritte bei einigen der bekanntesten Festivals Eur
 opas\, ebenso wie zahlreiche intime Clubshows\, die Fans eine seltene Gelegen
 heit bieten\, HOSS in voller L=C3=A4nge live zu erleben.    Einlass: 19:00 U
 hr    Altersfreigabe: ab 16 Jahren =20
URL:https://kalender.karlsruhe.de/db/termine/musik/lagwagon
CLASS:PUBLIC
DTSTART:20260808T200000
DTEND:
DTSTAMP:20260407T175555
CATEGORIES:Musik
ATTACH:https://kalender.karlsruhe.de/db/termine/musik/lagwagon/file/icon_large-lagwagon-ilkaykarakurt-2.jpg
END:VEVENT

END:VCALENDAR
