BEGIN:VCALENDAR
VERSION:2.0
CALSCALE:GREGORIAN
PRODID:https://kalender.karlsruhe.de/db/termine/
METHOD:PUBLISH
BEGIN:VEVENT
UID:580203
ORGANIZER;CN=Hochschule für Musik :MAILTO:pressebuero@hfm-karlsruhe.de
LOCATION:Kleine Kirche Karlsruhe
SUMMARY:Liedmatinee
DESCRIPTION;ENCODING=QUOTED-PRINTABLE:Mittagskonzert=0D=0A=0D=0A    Katharina Bierweiler\,    Mezzosopran\,     Jyri Mishku
 kov    \, Klavier\, interpretieren Lieder von Franz     Schubert    \, Johanne
 s     Brahms    \, Anton=C3=ADn     Dvo=C5=99=C3=A1k    \, Hugo     Wolf    \,
  Gustav     Mahler    \, Alexander von     Zemlinsky    \,=C2=A0Reynaldo     
 Hahn    \, Benjamin     Britten    \, Ralf     Goth=C3=B3ni    und Pawe=C5=82
      =C5=81ukaszewski    .    =0D=0A    Eintritt frei =20
URL:https://kalender.karlsruhe.de/db/termine/musik/liedmatinee-1
CLASS:PUBLIC
DTSTART:20260522T121500
DTEND:
DTSTAMP:20260407T115413
CATEGORIES:Musik
ATTACH:https://kalender.karlsruhe.de/db/termine/musik/liedmatinee-1/file/icon_kleine_kirche_quadrat.jpg
END:VEVENT

END:VCALENDAR
