BEGIN:VCALENDAR
VERSION:2.0
CALSCALE:GREGORIAN
PRODID:https://kalender.karlsruhe.de/db/termine/
METHOD:PUBLISH
BEGIN:VEVENT
UID:578300
ORGANIZER;CN=Die Spiegelfechter:MAILTO:info@spiegelfechter.de
LOCATION:Kabarett in der Orgelfabrik - die Spiegelfechter
SUMMARY:Lorenzo de Cunzo & Band — My Favorite Songs!
DESCRIPTION;ENCODING=QUOTED-PRINTABLE:Das Konzert-Erlebnis im sch=C3=B6nsten Theater von Karlsruhe=0D=0A=0D=0A  Back to t
 he roots! Mit seinem neuen Programm begibt sich der Bariton Lorenzo de Cunz
 o (Badisches Staatstheater Karlsruhe\,Theater Heidelberg\, Festspielhaus Bade
 n-Baden) auf eine Reise in seine musikalische Vergangenheit. Aufgewachsen j
 enseits der klassischen Musik war seine Heimat in Kindheit und Jugend der J
 azz\, Soul und die Chansons der 20er Jahre. Nun kehrt er dahin zur=C3=BCck u
 nd l=C3=A4sst die legend=C3=A4ren Songs von Frank Sinatra\, Amy Winehouse\, M
 ax Raabe\, und vielen mehr in neuem Glanz erstrahlen. Ein Abend voller herze
 rgreifender Balladen und grooviger Hits\, die garantiert zum Tr=C3=A4umen ei
 nladen =E2=80=94 das Konzert-Erlebnis im sch=C3=B6nsten Theater von Karlsru
 he.    Lorenzo de Cunzo\, Gesang    Daniel Salzmann\, Klavier/Arrangements   
  Martin Wilhelmi\, Posaune    Christoph Rehorst\, Bass    Steffen Schuhmacher
 \, Schlagzeug    Website:     www.decunzo.com        Seien Sie dabei. Wir fr
 euen uns auf Sie!    =0D=0A    Eintrittspreise & Eintritt      Regul=C3=A4rer P
 reis: 22 =E2=82=AC      Erm=C3=A4=C3=9Figung f=C3=BCr Sch=C3=BCler und Stud
 enten: 18 =E2=82=AC      Einlass: 19:30 Uhr      Beginn: 20:15 Uhr   =20
URL:https://kalender.karlsruhe.de/db/termine/musik/lorenzo_de_cunzo_band_my_favorite_songs-1
CLASS:PUBLIC
DTSTART:20260606T201500
DTEND:20260606T220000
DTSTAMP:20260127T083447
CATEGORIES:Musik
ATTACH:https://kalender.karlsruhe.de/db/termine/musik/lorenzo_de_cunzo_band_my_favorite_songs-1/file/icon_2675ABD1-583C-4548-BAF9-53D4964A15ED.jpg
END:VEVENT

END:VCALENDAR
