BEGIN:VCALENDAR
VERSION:2.0
CALSCALE:GREGORIAN
PRODID:https://kalender.karlsruhe.de/db/termine/
METHOD:PUBLISH
BEGIN:VEVENT
UID:580260
ORGANIZER;CN=Tollhaus Karlsruhe:MAILTO:
LOCATION:Kulturzentrum Tollhaus
SUMMARY:Mari Froes live beim Zeltival 2026
DESCRIPTION;ENCODING=QUOTED-PRINTABLE:Mari Froes aus Brasilien startet 2026 ihre bisher gr=C3=B6sste Europa-Tour 
 mit =C3=BCber 30 Konzerten und Festivalauftritten in Deutschland.=0D=0A=0D=0A  Sie 
 ist eine der spannendsten neuen Stimmen aus Brasilien =E2=80=93 und l=C3=A4
 ngst ein globales Streaming-Ph=C3=A4nomen: Mari Froes kommt im Sommer 2026 
 zur=C3=BCck nach Europa. Nach ihrer ersten Headliner-Europatour mit ausverk
 auften Konzerten u. a. in Hamburg\, K=C3=B6ln\, Frankfurt und Karlsruhe folgt
  nun der n=C3=A4chste Schritt: ihre bislang gr=C3=B6=C3=9Fte Europa-Tour mi
 t =C3=BCber 30 Shows\, darunter     zahlreiche Festival- und Konzerttermine 
 in Deutschland    .  =0D=0A    Mit mehr als     100 Millionen YouTube-Aufrufen 
    \, rund     5 Millionen monatlichen Spotify-H=C3=B6rer:innen    \,     1\,4
  Mio. Instagram-Followern    und =C3=BCber     2 Millionen TikTok-Fans    h
 at sich die K=C3=BCnstlerin aus S=C3=A3o Paulo in kurzer Zeit eine beeindru
 ckende internationale Reichweite aufgebaut. Doch Mari Froes ist weit mehr a
 ls ein Social-Media-Ph=C3=A4nomen: Ihre Musik verbindet brasilianische Trad
 ition mit moderner Songwriter-=C3=84sthetik und trifft damit einen Nerv wei
 t =C3=BCber Genre-Grenzen hinaus.    =0D=0A =20
URL:https://kalender.karlsruhe.de/db/termine/musik/mari_froes_live_beim_zeltival2026n
CLASS:PUBLIC
DTSTART:20260721T203000
DTEND:
DTSTAMP:20260324T092801
CATEGORIES:Musik
ATTACH:https://kalender.karlsruhe.de/db/termine/musik/mari_froes_live_beim_zeltival2026n/file/icon_DSC00548©bastimowka Kopie.jpg
END:VEVENT

END:VCALENDAR
