BEGIN:VCALENDAR
VERSION:2.0
CALSCALE:GREGORIAN
PRODID:https://kalender.karlsruhe.de/db/termine/
METHOD:PUBLISH
BEGIN:VEVENT
UID:573563
ORGANIZER;CN=Die Spiegelfechter:MAILTO:info@spiegelfechter.de
LOCATION:Kabarett in der Orgelfabrik - die Spiegelfechter
SUMMARY:Maria Vollmer- Hinter’m Höhepunkt geht’s weiter
DESCRIPTION;ENCODING=QUOTED-PRINTABLE:Vollmers bissige Kleinb=C3=BCrgersatiren sind hinterh=C3=A4ltige Miniaturen
 \, an denen sie die Lunte ihres Witzes ansteckt.=0D=0A=0D=0A  Die Partys im Freundes
 kreis sind zu Kaffeekr=C3=A4nzchen geschrumpft\, die Kinder reden vom Auszie
 hen\, und der Gatte hat sich einen Bastelkeller eingerichtet. Biegt ihr Lebe
 n also langsam in die Zielgerade ein\, in der das Restprogramm aus L=C3=A4tz
 chen-h=C3=A4keln-f=C3=BCr-die-Enkel bestehen wird?    Im Gegenteil =E2=80
 =93 f=C3=BCr Maria Vollmer wird es jetzt erst interessant! Sie will auch we
 iterhin mithelfen\, den Planeten zu retten und nebenbei daf=C3=BCr sorgen\, d
 ass Ehemann Rainer sich beim Heimwerken nicht selbst verst=C3=BCmmelt. Vor 
 allem aber: Feiern\, dass das Leben trotz aller Krisen bunt\, fr=C3=B6hlich u
 nd ausgelassen bleibt!    Sie hat genug Lebenserfahrung\, um zu wissen\, wie 
 man einen Tag in der Gro=C3=9Fstadt auch dann =C3=BCberlebt\, wenn man sein 
 Handy zuhause vergessen hat. Sie wei=C3=9F\, dass Nachbarn die gro=C3=9Farti
 gsten Menschen auf der Welt sind =E2=80=93 solange man genug Grappa im Haus
  hat. Und dass frau wirklich keine Dildo-Party mit Stripper buchen muss\, um
  ein wenig Spa=C3=9F zu haben. Andererseits ist das nat=C3=BCrlich eine tol
 le Idee=E2=80=A6    Vollblut-Kom=C3=B6diantin Maria Vollmer beherrscht den 
 Stand-up-Comedy-Auftritt ebenso souver=C3=A4n wie die gro=C3=9Fe Pop-Ballad
 e und bereitet ihrem Publikum mit geballter Spiel- und Lebensfreude einen u
 nvergesslichen Abend.    Regie: Dada Stievermann =C2=A0Mitarbeit: P. Vollme
 r\, G. Voltz      Seien Sie dabei. Wir freuen uns auf Sie!    =0D=0A    Eintritt
 spreise & Eintritt      Regul=C3=A4rer Preis: 22 =E2=82=AC      Erm=C3=A4
 =C3=9Figung f=C3=BCr Sch=C3=BCler und Studenten: 18 =E2=82=AC      Einlass:
  19:30 Uhr      Beginn: 20:15 Uhr   =20
URL:https://kalender.karlsruhe.de/db/termine/musik/maria_vollmer_hinterm_hohepunkt_gehts_weiter
CLASS:PUBLIC
DTSTART:20260508T201500
DTEND:20260508T220000
DTSTAMP:20250805T093634
CATEGORIES:Musik
ATTACH:https://kalender.karlsruhe.de/db/termine/musik/maria_vollmer_hinterm_hohepunkt_gehts_weiter/file/icon_4C7F9356-2215-4AEB-AD5F-B9C4B35C927F.jpg
END:VEVENT

END:VCALENDAR
