BEGIN:VCALENDAR
VERSION:2.0
CALSCALE:GREGORIAN
PRODID:https://kalender.karlsruhe.de/db/termine/
METHOD:PUBLISH
BEGIN:VEVENT
UID:576307
ORGANIZER;CN=Substage Karlsruhe e.V.:MAILTO:info@substage.de
LOCATION:Substage Karlsruhe e.V.
SUMMARY:Mariybu
DESCRIPTION;ENCODING=QUOTED-PRINTABLE:FRECH Tour=0D=0A=0D=0A  Mariybu ver=C3=B6ffentlicht am Herrentag\, den=C2=A014. Mai 
 2026\, ihr Album "FRECH"\, welches mit tanzbarem Technogeballer die Herrenwel
 t aufs Korn nimmt. Es handelt von Alpha Feministen\, F0dsen & Schlampen und 
 dem Eisprung-High.    Musikalisch bewegt es sich im Bereich des technoiden 
 Hyperpop mit Hardstyle Elementen. Ab September 2026 ist Mariybu auch bei un
 s mit ihrem Album auf Tour.  =0D=0A  =0D=0A        Einlass: 19:00 Uhr    Altersfrei
 gabe: ab 16 Jahren =20
URL:https://kalender.karlsruhe.de/db/termine/musik/mariybu
CLASS:PUBLIC
DTSTART:20261009T200000
DTEND:
DTSTAMP:20260331T175605
CATEGORIES:Musik
ATTACH:https://kalender.karlsruhe.de/db/termine/musik/mariybu/file/icon_large-mariybu1-liv-plotz-erweitert.jpg
END:VEVENT

END:VCALENDAR
