BEGIN:VCALENDAR
VERSION:2.0
CALSCALE:GREGORIAN
PRODID:https://kalender.karlsruhe.de/db/termine/
METHOD:PUBLISH
BEGIN:VEVENT
UID:566518
ORGANIZER;CN=Tollhaus Karlsruhe - Freier Kulturverein e.V.:MAILTO:info@tollhaus.de
LOCATION:Kulturzentrum Tollhaus
SUMMARY:MAX GIESINGER & BAND
DESCRIPTION;ENCODING=QUOTED-PRINTABLE:Jahresabschlusskonzert 2025=0D=0A=0D=0AMax Giesinger res=C3=BCmiert gemeinsam mit s
 einer Band und seinen Fans das Jahr 2025. Seine Jahresabschlusskonzerte im 
 TOLLHAUS Karlsruhe sind inzwischen eine echte Tradition f=C3=BCr Max Giesin
 ger und seine Fans. Der deutsche Songwriter und S=C3=A4nger unterstreicht d
 amit\, was auch sein im Fr=C3=BChsommer 2025 erscheinendes Album zum Ausdruc
 k bringt: Wie sehr er die intensiven Begegnungen mit seinem Publikum liebt 
 und braucht. =0D=0A F=C3=BCr jemanden wie Max\, der deutlich mehr unterwegs ist 
 als zu Hause\, sind solche Traditionen wie die beiden Jahreabschlusskonzerte
  wichtig\, weil sie neben besagter N=C3=A4he zu seinem Publikum auch Anlass 
 zur Reflektion geben\, zum Blick zur=C3=BCck\, dem Fokussieren auf das\, was w
 irklich wichtig war. Die Songs seines kommenden Albums machen deutlich\, das
 s Max Giesinger in eine neue k=C3=BCnstlerische Phase eintritt: Tiefgehende
  Songs\, mit neuen Sounds und einer Songabfolge\, die einem Roadtrip gleicht\,
  auf den er seine Zuh=C3=B6rer:innen mitnimmt.=20
URL:https://kalender.karlsruhe.de/db/termine/musik/max_giesinger_band-1
CLASS:PUBLIC
DTSTART:20251221T200000
DTEND:
DTSTAMP:20250104T175534
CATEGORIES:Musik
ATTACH:https://kalender.karlsruhe.de/db/termine/musik/max_giesinger_band-1/file/icon_max-giesinger_20241212-180427_dg_676740abe05772.22019046.jpg
END:VEVENT

END:VCALENDAR
