BEGIN:VCALENDAR
VERSION:2.0
CALSCALE:GREGORIAN
PRODID:https://kalender.karlsruhe.de/db/termine/
METHOD:PUBLISH
BEGIN:VEVENT
UID:579682
ORGANIZER;CN=Substage Karlsruhe e.V.:MAILTO:info@substage.de
LOCATION:Substage Karlsruhe e.V.
SUMMARY:MIDGE URE & BAND ELECTRONICA
DESCRIPTION;ENCODING=QUOTED-PRINTABLE:"The Classic Collection" - Tour 2027=0D=0A=0D=0A  Als MIDGE URE 1979 Frontmann der 
 stilpr=C3=A4genden=C2=A0 New-Wave- und Synth-Pop-Band Ultravox wurde\, konnt
 e er bereits auf mehrere erfolgreiche Musikerleben zur=C3=BCckblicken. Der 
 mehrfach mit Gold und Platin ausgezeichnete K=C3=BCnstler bringt 2027 die g
 r=C3=B6=C3=9Ften Ultravox-Hits=C2=A0 wie =E2=80=9EDancing With Tears In My 
 Eyes=E2=80=9D und =E2=80=9EHymn=E2=80=9D ebenso auf die B=C3=BChne=C2=A0 wi
 e seine Solo-Erfolge und Songs aus den zahlreichen Bandprojekten seiner au
 =C3=9Fergew=C3=B6hnlichen Karriere.=C2=A0=E2=80=9ESo sehr ich es auch liebe
 \, Zeit mit dem Schreiben und Aufnehmen von Songs zu verbringen\, bleibt doch
  das live Spielen immer meine =E2=80=9Aerste Liebe=E2=80=98\, denn ich habe 
 schon lange Musik gemacht\, bevor man mich auch nur in die N=C3=A4he eines A
 ufnahmestudios lie=C3=9F. Auf der Tour werde ich nicht nur eine gro=C3=9Fe 
 Auswahl von Hits aus meiner gesamten Karriere spielen\, sondern auch einige 
 der gefragtesten Lieblingssongs. Diese Momente aus meinem Leben mit der Mus
 ik wieder aufleben zu lassen und diese zu teilen ist etwas\, auf dass ich mi
 ch wirklich freue.=E2=80=9D sagt MIDGE URE.  =0D=0A  Die beiden Platten\, die zu
 m Wechsel der 70er in die 80er Jahre die musikalische Landschaft f=C3=BCr i
 mmer ver=C3=A4nderten und zur Verabschiedung vom gitarrenlastigen Rock und 
 Punk der 70er f=C3=BChrten\, wurden von MIDGE URE\, einer der f=C3=BChrenden 
 Pers=C3=B6nlichkeiten der britischen Musikszene\, mitgeschrieben\, aufgenomme
 n und produziert und ver=C3=A4nderten nicht nur die Charts weltweit\, sonder
 n im Zuge dessen auch sein Leben. Diese beiden Alben der Bands Visage (Visa
 ge) und Ultravox (Vienna) katapultierten die Art-School-Alternative mitten 
 ins Zentrum des Mainstreams und lieferten eine Schablone f=C3=BCr vieles\, w
 as folgen sollte.    Einlass: 19:00 Uhr    Altersfreigabe: ab 16 Jahren =20
URL:https://kalender.karlsruhe.de/db/termine/musik/midge_ure_band_electronica
CLASS:PUBLIC
DTSTART:20270305T200000
DTEND:
DTSTAMP:20260227T175602
CATEGORIES:Musik
ATTACH:https://kalender.karlsruhe.de/db/termine/musik/midge_ure_band_electronica/file/icon_large-copy-of-midge-ure-shooting-hamburg-2025-ctoddevision.jpg
END:VEVENT

END:VCALENDAR
