BEGIN:VCALENDAR
VERSION:2.0
CALSCALE:GREGORIAN
PRODID:https://kalender.karlsruhe.de/db/termine/
METHOD:PUBLISH
BEGIN:VEVENT
UID:580993
ORGANIZER;CN=Kreisjugendwerk der AWO Karlsruhe Stadt:MAILTO:buero@jugendwerk-awo.de
LOCATION:CAVE - Jugendtreff
SUMMARY:Mission Impossible - CAVE
DESCRIPTION;ENCODING=QUOTED-PRINTABLE:Traust du dich?  Wir geben dir eine geheime Mission.  Wenn du sie meisterst
 \, geht der Drink auf uns!=0D=0A=0D=0A    MISSION IMPOSSIBLE IM CAVE      Keine Lust
  auf dieselben Tanz in den Mai Partys wie jedes Jahr?  =0D=0A  Dann komm dahin\,
  wo der Abend anders wird.        So l=C3=A4uft=E2=80=99s ab:    =0D=0A  An der
  Bar bekommst du eine geheime Mission.  =0D=0A  Wenn du sie erfolgreich meister
 st\, geht ein Drink deiner Wahl auf uns.    Aber untersch=C3=A4tz das nicht
 =E2=80=A6 manche Missionen bringen dich zum schwitzen.        Neue Leute ke
 nnenlernen        Lachen\, Chaos & Eskalation        Drinks gewinnen        
 Ein Abend\, =C3=BCber den man noch reden wird     =20
URL:https://kalender.karlsruhe.de/db/termine/musik/mission_impossible_cave
CLASS:PUBLIC
DTSTART:20260430T200000
DTEND:
DTSTAMP:20260422T093642
CATEGORIES:Musik
ATTACH:https://kalender.karlsruhe.de/db/termine/musik/mission_impossible_cave/file/icon_signal-2026-04-17-092325.jpg
END:VEVENT

END:VCALENDAR
