BEGIN:VCALENDAR
VERSION:2.0
CALSCALE:GREGORIAN
PRODID:https://kalender.karlsruhe.de/db/termine/
METHOD:PUBLISH
BEGIN:VEVENT
UID:576900
ORGANIZER;CN=Kantorat der Ev. Stadtkirche Karlsruhe:MAILTO:kantorat@stadtkirche-karlsruhe.de
LOCATION:Kleine Kirche Karlsruhe
SUMMARY:Mit Rilke durch das Jahr: „Ich lerne sehen“
DESCRIPTION;ENCODING=QUOTED-PRINTABLE:Rainer Maria Rilke in Paris - aus Gedichten\, Briefen und Prosa des Dichters
 =0D=0A=0D=0A  MIT RILKE DURCH DAS JAHR: =E2=80=9EICH LERNE SEHEN=E2=80=9C    Rainer
  Maria Rilke in Paris - aus Gedichten\, Briefen und Prosa des Dichters    Lu
 ise Wunderlich\, Rezitation    Johannes Hustedt\, Fl=C3=B6te =20
URL:https://kalender.karlsruhe.de/db/termine/musik/mit_rilke_durch_das_jahr_ich_lerne_sehen
CLASS:PUBLIC
DTSTART:20260422T193000
DTEND:
DTSTAMP:20251203T140027
CATEGORIES:Musik
ATTACH:https://kalender.karlsruhe.de/db/termine/musik/mit_rilke_durch_das_jahr_ich_lerne_sehen/file/icon_Kleine_Kirche_Karlsruhe_Gr.jpg
END:VEVENT

END:VCALENDAR
