BEGIN:VCALENDAR
VERSION:2.0
CALSCALE:GREGORIAN
PRODID:https://kalender.karlsruhe.de/db/termine/
METHOD:PUBLISH
BEGIN:VEVENT
UID:566085
ORGANIZER;CN=Kantorat der Ev. Stadtkirche Karlsruhe:MAILTO:kantorat@stadtkirche-karlsruhe.de
LOCATION:Kleine Kirche Karlsruhe
SUMMARY:Mit Rilke durch das Jahr: Liederabend
DESCRIPTION;ENCODING=QUOTED-PRINTABLE:Liederzyklus nach Gedichten von Rainer Maria Rilke Paul Hindemith: =E2=80
 =9EDas Marienleben=E2=80=9C op. 27=0D=0A=0D=0A  Mit Rilke durch das Jahr: Liederabe
 nd    Liederzyklus nach Gedichten von Rainer Maria Rilke    Paul Hindemith:
  =E2=80=9EDas Marienleben=E2=80=9C op. 27    Julia Obert\, Sopran    Aurelia
  Georgiou\, Klavier =20
URL:https://kalender.karlsruhe.de/db/termine/musik/mit_rilke_durch_das_jahr_liederabend-1
CLASS:PUBLIC
DTSTART:20260617T193000
DTEND:
DTSTAMP:20260203T150440
CATEGORIES:Musik
ATTACH:https://kalender.karlsruhe.de/db/termine/musik/mit_rilke_durch_das_jahr_liederabend-1/file/icon_Kleine_Kirche_Karlsruhe_Gr.jpg
END:VEVENT

END:VCALENDAR
