BEGIN:VCALENDAR
VERSION:2.0
CALSCALE:GREGORIAN
PRODID:https://kalender.karlsruhe.de/db/termine/
METHOD:PUBLISH
BEGIN:VEVENT
UID:580136
ORGANIZER;CN=KlangKunst in der Hemingway Lounge e. V.:MAILTO:presse@hemingwaylounge.de
LOCATION:Hemingway Lounge in Karlsruhe
SUMMARY:Musik-Plauderei . „Musik schafft Ordnung aus dem Chaos“ . Yehudi Menuhin zum 110. Geburtstag .
DESCRIPTION;ENCODING=QUOTED-PRINTABLE:Mit Hans Hachmann . Laurent Breuninger  . Studierende der HfM Karlsruhe=0D=0A=0D=0A
   Yehudi Menuhin z=C3=A4hlt zu den pr=C3=A4gendsten Musikerpers=C3=B6nlichk
 eiten des 20. Jahrhunderts =E2=80=93 Geiger\, Bratschist\, Dirigent und leide
 nschaftlicher Vermittler von Musik. Die Musik-Plauderei widmet sich seinem 
 Leben\, seinem k=C3=BCnstlerischen Wirken und seiner au=C3=9Fergew=C3=B6hnli
 chen Pers=C3=B6nlichkeit. Im Gespr=C3=A4ch beleuchten     Hans C. Hachmann 
    \, langj=C3=A4hriger SWR2-Musikredakteur\, und der Geiger und Professor   
   Laurent Albrecht Breuninger    zentrale Stationen von Menuhins Karriere. 
 Schon fr=C3=BCh galt er als Wunderkind\, nahm als Zw=C3=B6lfj=C3=A4hriger se
 ine ersten Platten auf und deb=C3=BCtierte kurz darauf mit den Berliner Phi
 lharmonikern unter Bruno Walter. Aus der hochmusikalischen Familie hervorge
 gangen\, entwickelte sich Menuhin zu einem international gefeierten K=C3=BCn
 stler\, der Musik stets als Br=C3=BCcke zwischen Kulturen verstand. Neben se
 iner Karriere engagierte er sich intensiv f=C3=BCr Menschenrechte\, Demokrat
 ie und =C3=B6kologische Themen. Die Gespr=C3=A4chsrunde zeichnet dieses fac
 ettenreiche K=C3=BCnstlerleben nach und schl=C3=A4gt zugleich den Bogen zu 
 Menuhins musikalischem Umfeld\, seinen Lehrern\, Sch=C3=BClern und k=C3=BCnst
 lerischen Weggef=C3=A4hrten.     Laurent Albrecht Breuninger    \, selbst in
 ternational konzertierender Geiger und ausgewiesener Kenner der gro=C3=9Fen
  =E2=80=9EKomponisten-Geiger=E2=80=9C\, bringt dabei pers=C3=B6nliche Perspe
 ktiven aus der Tradition der Violinschule ein. Den musikalischen Rahmen ges
 talten Studierende der Staatlichen Hochschule f=C3=BCr Musik Karlsruhe mit 
 live interpretierten Werken und lassen Menuhins musikalische Welt unmittelb
 ar erklingen.  =0D=0A   =0D=0A =20
URL:https://kalender.karlsruhe.de/db/termine/musik/musik_plauderei_musik_schafft_ordnung
CLASS:PUBLIC
DTSTART:20260422T193000
DTEND:20260422T220000
DTSTAMP:20260324T091823
CATEGORIES:Musik
ATTACH:https://kalender.karlsruhe.de/db/termine/musik/musik_plauderei_musik_schafft_ordnung/file/icon_260422_HL_pic1_Laurent Breuninger.jpg
END:VEVENT

END:VCALENDAR
