BEGIN:VCALENDAR
VERSION:2.0
CALSCALE:GREGORIAN
PRODID:https://kalender.karlsruhe.de/db/termine/
METHOD:PUBLISH
BEGIN:VEVENT
UID:579880
ORGANIZER;CN=Badisches Konservatorium:MAILTO:
LOCATION:Badisches KONServatorium, Musikschule der Stadt Karlsruhe
SUMMARY:Musikalische Vernissage
DESCRIPTION;ENCODING=QUOTED-PRINTABLE:Lehrkr=C3=A4fte des Fachbereichs Tasteninstrumente laden zum Konzert und zu
 r Ausstellung eigener Kunstwerke ein. Mit freundlicher Unterst=C3=BCtzung d
 es F=C3=B6rdervereins und der VHS.  Kaiserallee 12c\, Konzertsaal=0D=0A=0D=0A
URL:https://kalender.karlsruhe.de/db/termine/musik/musikalische_vernissage
CLASS:PUBLIC
DTSTART:20260425T170000
DTEND:
DTSTAMP:20260311T092607
CATEGORIES:Musik
ATTACH:https://kalender.karlsruhe.de/db/termine/musik/musikalische_vernissage/file/icon_Bild Plakat_Annegret Lötzsch.jpg
END:VEVENT

END:VCALENDAR
