BEGIN:VCALENDAR
VERSION:2.0
CALSCALE:GREGORIAN
PRODID:https://kalender.karlsruhe.de/db/termine/
METHOD:PUBLISH
BEGIN:VEVENT
UID:580876
ORGANIZER;CN=Musikverein Einheit Wolfartsweier e.V. :MAILTO:info@mve-wolfartsweier.de
LOCATION:Festplatz "Ponderosa"
SUMMARY:Musikfestival WOODSTICKEL Freitag
DESCRIPTION;ENCODING=QUOTED-PRINTABLE:Blasmusik\, Hip-Hop\, Funk\, Rock\, Pop und Blues in entspannter Atmosph=C3=A4r
 e=0D=0A=0D=0A  Der Musikverein Einheit l=C3=A4dt herzlich zum     11. WOODSTICKEL F
 estival    auf  dem Festplatz Ponderosa im Stadtteil Wolfartsweier ein. Das
  Festival hat  sich als ein fester Bestandteil im kulturellen Kalender von 
  Wolfartsweier etabliert und bietet auf zwei =C3=BCberdachten B=C3=BChnen e
 in  abwechslungsreiches Programm f=C3=BCr die ganze Familie. Der Eintritt i
 st wie  immer frei\, die Bands spielen ohne Gage\, und die Besucher k=C3=B6nn
 en sich  auf eine entspannte Atmosph=C3=A4re freuen.  =0D=0A  =0D=0A  Los geht es a
 m Donnerstag 14. Mai ab 11:00 Uhr mit dem "WOODSTICKEL der  Blasmusik". Ver
 schiedene Ensembles bieten ein breites Spektrum  traditioneller und moderne
 r Blechblasmusik\, das Jung und Alt begeistern  wird.  =0D=0A  =0D=0A  Der Freitagab
 end startet mit Ukulelen-Pop. Danach rocken die Urgesteine von Gablonzky Be
 at die B=C3=BChne. Notasis huldigt der Kultband Oasis\, und  den Abschluss m
 acht die preisgekr=C3=B6nte Band The Stereolines aus Stuttgart.  =0D=0A  =0D=0A  Sa
 mstags singen Lightnin' Lee und die Baumwollpfl=C3=BCcker den schw=C3=A4bis
 chen  Blues. Auf klassischen Gitarrenrock mit Tonefields folgt w=C3=BCtende
 r  deutscher Hip-Hop mit ANGR. Den funkigen Abschluss macht Soundaffair\,  d
 ie nach vielen Jahren auf die WOODSTICKEL-B=C3=BChne zur=C3=BCckkehren.  =0D=0A
   =0D=0A  F=C3=BCr das leibliche Wohl ist bestens gesorgt\, denn es wird eine gu
 te  Auswahl an Verpflegung und Getr=C3=A4nken angeboten. Die Veranstalter b
 itten  um reichlichen Verzehr\, dessen =C3=9Cbersch=C3=BCsse der Jugendarbei
 t des  Musikvereins Einheit Wolfartsweier e.V. zugute kommen.  =0D=0A  =0D=0A  Weit
 ere Informationen\, Bilder und Filme von den bisherigen Festivals  sind auf 
 der offiziellen Website des WOODSTICKEL Festivals unter  www.woodstickel.de
  verf=C3=BCgbar.  =0D=0A =20
URL:https://kalender.karlsruhe.de/db/termine/musik/musikfestival_woodstickel_freitag
CLASS:PUBLIC
DTSTART:20260515T180000
DTEND:
DTSTAMP:20260415T084235
CATEGORIES:Musik
ATTACH:https://kalender.karlsruhe.de/db/termine/musik/musikfestival_woodstickel_freitag/file/icon_Woodstickel_3000px - Kopie.jpg
END:VEVENT

END:VCALENDAR
