BEGIN:VCALENDAR
VERSION:2.0
CALSCALE:GREGORIAN
PRODID:https://kalender.karlsruhe.de/db/termine/
METHOD:PUBLISH
BEGIN:VEVENT
UID:578989
ORGANIZER;CN=Pädagogische Hochschule Karlsruhe (PHKA):MAILTO:poststelle@ph-karlsruhe.de
LOCATION:Pädagogische Hochschule Karlsruhe (PHKA)
SUMMARY:Musikgeragogik zwischen Forschung, Praxis und Nachwuchsförderung
DESCRIPTION;ENCODING=QUOTED-PRINTABLE:Summer School an der P=C3=A4dagogischen Hochschule Karlsruhe=0D=0A=0D=0A  Die     D
 eutsche Gesellschaft f=C3=BCr Musikgeragogik e.V. l=C3=A4dt gemeinsam mit d
 er P=C3=A4dagogischen Hochschule Karlsruhe zur dreit=C3=A4gigen Summer Scho
 ol     =E2=80=9EMusikgeragogik zwischen Forschung\, Praxis und Nachwuchsf=C3
 =B6rderung=E2=80=9C    (19. bis 21. Juni 2026) ein.    Unter der Leitung vo
 n Prof. Dr. Kai Koch  richtet sich die Summer School an Doktorand:innen\, fo
 rtgeschrittene  Studierende und alle Interessierten\, die sich wissenschaftl
 ich oder  praktisch mit musikalischen Bildungsprozessen im Alter besch=C3
 =A4ftigen. In  einem intensiven Kolloquiums- und Werkstattformat werden eig
 ene  Forschungs- und Praxisprojekte diskutiert\, weiterentwickelt und fachli
 ch  begleitet =E2=80=93 inklusive Impulsen erfahrener Mentor:innen. =20
URL:https://kalender.karlsruhe.de/db/termine/musik/musikgeragogik_zwischen_forschung_praxis
CLASS:PUBLIC
DTSTART:20260619T000000
DTEND:20260621T000000
DTSTAMP:20260212T103424
CATEGORIES:Musik
ATTACH:https://kalender.karlsruhe.de/db/termine/musik/musikgeragogik_zwischen_forschung_praxis/file/icon_PHKA_Drum Circle_IMG_9929.jpg
END:VEVENT

END:VCALENDAR
