BEGIN:VCALENDAR
VERSION:2.0
CALSCALE:GREGORIAN
PRODID:https://kalender.karlsruhe.de/db/termine/
METHOD:PUBLISH
BEGIN:VEVENT
UID:579006
ORGANIZER;CN=Badisches Konservatorium:MAILTO:
LOCATION:Badisches KONServatorium, Musikschule der Stadt Karlsruhe
SUMMARY:Musikgymnasium in concert II
DESCRIPTION;ENCODING=QUOTED-PRINTABLE:Ein abwechslungsreicher Konzertabend mit vielversprechenden  Nachwuchsk=C3
 =BCnstlern des Helmholtz-Gymnasiums.=0D=0A=0D=0A
URL:https://kalender.karlsruhe.de/db/termine/musik/musikgymnasium_in_concert_ii
CLASS:PUBLIC
DTSTART:20260504T193000
DTEND:
DTSTAMP:20260212T103857
CATEGORIES:Musik
ATTACH:https://kalender.karlsruhe.de/db/termine/musik/musikgymnasium_in_concert_ii/file/icon_Titelbild_Musikgymnasium.jpg
END:VEVENT

END:VCALENDAR
