BEGIN:VCALENDAR
VERSION:2.0
CALSCALE:GREGORIAN
PRODID:https://kalender.karlsruhe.de/db/termine/
METHOD:PUBLISH
BEGIN:VEVENT
UID:573346
ORGANIZER;CN=Badisches Staatstheater Karlsruhe:MAILTO:kartenservice@staatstheater.karlsruhe.de
LOCATION:Staatstheater, siehe Beschreibung
SUMMARY:MusikTheaterTag
DESCRIPTION;ENCODING=QUOTED-PRINTABLE:Ein Tag voller Musik(theater) f=C3=BCr die ganze Familie=0D=0A=0D=0A
URL:https://kalender.karlsruhe.de/db/termine/musik/musiktheatertag
CLASS:PUBLIC
DTSTART:20260621T093000
DTEND:
DTSTAMP:20260421T175532
CATEGORIES:Musik
ATTACH:https://kalender.karlsruhe.de/db/termine/musik/musiktheatertag/file/icon_bsk_digitale-formate_musiktheatertag_stueckseite_6800be0d2237f3.16627828.jpg
END:VEVENT

END:VCALENDAR
