BEGIN:VCALENDAR
VERSION:2.0
CALSCALE:GREGORIAN
PRODID:https://kalender.karlsruhe.de/db/termine/
METHOD:PUBLISH
BEGIN:VEVENT
UID:576926
ORGANIZER;CN=Pädagogische Hochschule Karlsruhe (PHKA):MAILTO:poststelle@ph-karlsruhe.de
LOCATION:Pädagogische Hochschule Karlsruhe (PHKA)
SUMMARY:Musizieren für und mit Menschen mit Demenz
DESCRIPTION;ENCODING=QUOTED-PRINTABLE:Interdisziplin=C3=A4rer Kongress=0D=0A=0D=0A  Unter dem Titel =E2=80=9EMusizieren f
 =C3=BCr und mit Menschen mit Demenz =E2=80=93 Perspektiven f=C3=BCr Ch=C3
 =B6re und Instrumentalensembles=E2=80=9C veranstaltet der Bundesmusikverban
 d Chor & Orchester e. V. in Kooperation mit der P=C3=A4dagogischen Hochschu
 le Karlsruhe am 25. und 26. April 2026 einen interdisziplin=C3=A4ren Kongre
 ss rund um demenzsensibles Singen und Musizieren.  Anmeldung und Programm: 
 siehe =E2=80=9EZur Webseite der Veranstaltung". =20
URL:https://kalender.karlsruhe.de/db/termine/musik/musizieren_fur_und_mit_menschen_mit_demenz
CLASS:PUBLIC
DTSTART:20260425T100000
DTEND:20260426T154500
DTSTAMP:20251203T140452
CATEGORIES:Musik
ATTACH:https://kalender.karlsruhe.de/db/termine/musik/musizieren_fur_und_mit_menschen_mit_demenz/file/icon_LfdM_Demenz Partner Schulung_Dominik Böhm (14).jpg
END:VEVENT

END:VCALENDAR
