BEGIN:VCALENDAR
VERSION:2.0
CALSCALE:GREGORIAN
PRODID:https://kalender.karlsruhe.de/db/termine/
METHOD:PUBLISH
BEGIN:VEVENT
UID:580509
ORGANIZER;CN=Substage Karlsruhe e.V.:MAILTO:info@substage.de
LOCATION:Substage Karlsruhe e.V.
SUMMARY:MY’TALLICA - a tribute to Metallica
DESCRIPTION;ENCODING=QUOTED-PRINTABLE:                                                                           
                                                                            
                                                                            
                                                                            
                                                                            
                           ...=0D=0A=0D=0A  MY=E2=80=99TALLICA haben sich =C3=BCber 
 zwei Jahrzehnte zur gefragtesten Metallica Tribute Show Deutschlands entwic
 kelt. Das Original-Equipment der Vorbilder Metallica\, ein gewaltiger Live-S
 ound und ein abwechslungsreiches\, =C3=BCber zweist=C3=BCndiges Programm sin
 d bei MY=E2=80=99TALLICA lediglich der Anfang. Weltweit einzigartig ist MY
 =E2=80=99TALLICAs Videoshow\, die mit atemberaubender LED-Technologie die Ba
 ndgeschichte von Metallica auch visuell erz=C3=A4hlt. MY=E2=80=99TALLICA bi
 nden ihr Publikum darin mit interaktiven Elementen ein und machen so jede L
 ive-Show zu einem aufw=C3=A4ndig inszenierten Tribute-Erlebnis. Selbstverst
 =C3=A4ndlich finden sowohl gro=C3=9Fe Metallica-Klassiker als auch seltener
  gespielte Live-Juwelen darin ihren Platz. Die deutsche Tribute Band ist me
 hrfach als offizieller Live-Act im Rahmenprogramm von Metallica-Shows aufge
 treten und selbst den Mitgliedern von Metallica seit Jahren ein Begriff. Un
 ter internationalen Metallica-Fanclubs genie=C3=9Fen MY=E2=80=98TALLICA den
  Ruf als einer der besten Metallica Tribute-Acts der Welt.    Einlass: 19:0
 0 Uhr    Altersfreigabe: ab 16 Jahren =20
URL:https://kalender.karlsruhe.de/db/termine/musik/mytallica_a_tribute_to_metallica
CLASS:PUBLIC
DTSTART:20270130T200000
DTEND:
DTSTAMP:20260326T175604
CATEGORIES:Musik
ATTACH:https://kalender.karlsruhe.de/db/termine/musik/mytallica_a_tribute_to_metallica/file/icon_large-mytallica-press-2025-2026.jpg
END:VEVENT

END:VCALENDAR
