BEGIN:VCALENDAR
VERSION:2.0
CALSCALE:GREGORIAN
PRODID:https://kalender.karlsruhe.de/db/termine/
METHOD:PUBLISH
BEGIN:VEVENT
UID:580946
ORGANIZER;CN=Messe-Karlsruhe Veranstaltungen:MAILTO:
LOCATION:Konzerthaus / Kongresszentrum Karlsruhe
SUMMARY:NATURALLY 7
DESCRIPTION;ENCODING=QUOTED-PRINTABLE:=E2=80=9CCloser Look=E2=80=9D Tour | 25 Years of Naturally 7=0D=0A=0D=0A      =E2
 =80=9CCloser Look=E2=80=9D Tour    =0D=0A      =0D=0A   =E2=80=93 Anders als alle a
 nderen\, atemberaubend\, faszinierend =E2=80=93        NATURALLY 7 erzeugen d
 en facettenreichen Klangkosmos einer ganzen Band vom Sound des Schlagzeugs\,
  =C3=BCber den Bass\, die Gitarre\, die Mundharmonika oder auch der Posaune 
 =E2=80=93 und das vollkommen ohne Instrumente! Die 7 M=C3=A4nner singen zwa
 r A-Capella\, sind aber mit vielen anderen Gruppen dieses Genres nicht vergl
 eichbar\, denn nur wenige erreichen einen so vollkommenen Sound. Mal ist es 
 R=E2=80=99n=E2=80=99B\, Soul oder HipHop\, mal Gospel\, Pop oder auch Rock. Mi
 t spielerischer Perfektion und absolut beeindruckender musikalischer und zw
 ischenmenschlicher Harmonie bescheren NATURALLY 7 ihrem Publikum immer wied
 er unvergessliche Erlebnisse der au=C3=9Ferge-w=C3=B6hnlichen Art. Zus=C3
 =A4tzlich zu ihrem musikalischen K=C3=B6nnen sind die sieben Vocal-Artisten
  auch gro=C3=9Fartige Entertainer und ihre Pr=C3=A4senz auf der B=C3=BChne 
 erreicht jeden Platz des Hauses und verzauberte bisher jeden Besucher.     
    Seit nunmehr =C3=BCber 25 Jahren tourt =C2=BBBand ohne Band=C2=AB durch 
 die gesamte Welt: Mit SARAH CONNOR und der Single =E2=80=9EMusic is the Key
 =E2=80=9C 2003 auf Platz 1 in den deutschen Charts\, drei Welttourneen mit M
 ICHAEL BUBL=C3=88 mit BUBL=C3=88\, QUINCY JONES\, LUDACRIS und 2019 bei JAMES
  CORDEN Platz 1 in der Kategorie =E2=80=9EWorld=E2=80=99s Best Band=E2=80
 =9C in der Show =E2=80=9EWorld=E2=80=99s Best=E2=80=9C. 2023 auf Tour mit P
 UR durch Deutschland\, zahlreiche eigene Touren durch Amerika\, Europa\, Asien
  und Australien und im Jahr 2024 eine Arena Tour mit dem Bestseller-Autor S
 EBASTIAN FITZEK vor =C3=BCber 150.000 Menschen.   =0D=0A   Daher wird es nun Ze
 it f=C3=BCr einen hautnahen und pers=C3=B6nlichen Einblick\, Zeit f=C3=BCr e
 inen =E2=80=9ECloser Look=E2=80=9C zum 25-j=C3=A4hrigem Band-Jubil=C3=A4um.
  2025 l=C3=A4dt die Band daher zu ihrer =E2=80=9ECloser Look =E2=80=93 25 Y
 ears=E2=80=9C Tour ein\, f=C3=BCr das die Jungs eine Art Best of ihrer Bandh
 istorie aufspielen. Auch die ein oder andere =C3=9Cberraschung h=C3=A4lt da
 s Programm f=C3=BCr das Publikum bereit.        Ins Leben gerufen wurde NAT
 URALLY 7 1999 von ROGER THOMAS\, der sich mit seinem Bruder WARREN f=C3=BCnf
  weitere talentierten S=C3=A4nger aus der Umgebung suchte. Ausschlaggebend 
 daf=C3=BCr war\, dass WARREN sich als Kind ein Schlagzeug w=C3=BCnschte. Ihr
 e Mutter meinte jedoch\, das w=C3=BCrde zu viel Krach machen. Deshalb begann
  er diverse Drum-Sounds stimmlich und mit dem Mund nachzumachen\, was man im
  HipHop seit den 1980ern auch als =E2=80=9EBeatboxing=E2=80=9C bezeichnet. 
 So kam eines zum anderen und auch die anderen Bandmitglieder fanden Spa=C3
 =9F daran Instrumente zu imitieren\, was fortan zum NATURALLY 7-Markenzeiche
 n wurde.        Zudem ist es auch das Unterscheidungsmerkmal gegen=C3=BCber
  vielen A-Capella-Gruppen\, die haupts=C3=A4chlich singend performen. Das\, w
 as den sieben Amerikanern so spielerisch leicht von den Lippen geht\, nennen
  sie selbst =E2=80=9EVocal Play=E2=80=9C.        Quasi nonstop sind die Aus
 nahme-Musiker\, zu denen neben den beiden Gr=C3=BCndungs-Br=C3=BCdern ROGER 
 (Musikalischer Leiter\, Arrangeur\, 1. Bariton & Rapper) und WARREN THOMAS (P
 ercussion\, =E2=80=9EGitarre=E2=80=9C\, =E2=80=9EKlarinette=E2=80=9C & 3. Ten
 or) noch ROD ELRIDGE (1. Tenor\, =E2=80=9EScratching=E2=80=9C & =E2=80=9ETro
 mpete=E2=80=9C)\, SEAN SIMMONDS (2. Tenor & =E2=80=9EMundharmonika=E2=80=9C)
 \, RICKY CORT (4. Tenor & =E2=80=9EGitarre=E2=80=9C)\, DWIGHT STEWART (2. Bar
 iton & =E2=80=9ETrompete=E2=80=9C) sowie NNAMDI BRYANT (Bass) geh=C3=B6ren\,
  unterwegs\, denn ihr Zuhause ist die B=C3=BChne. Dort ist die akustische Il
 lusion einer kleinen Bigband in verschiedenen Varianten hautnah zu erleben.
         Wer das miterlebt kann nur beipflichten\, dass es sich hier um ein 
 =E2=80=9ESieben Stimmen-Weltwunder=E2=80=9C (=E2=80=9EDie Welt=E2=80=9C) ha
 ndelt oder\, wie es Micheal-Jackson-Produzent QUINCY JONES ausdr=C3=BCckte: 
 =E2=80=9ENATURALLY 7 sind die beste A-Capella-Band aller Zeiten!=E2=80=9C  
       Links:       www.naturallyseven.com      &       https://de-de.facebo
 ok.com/naturally7            Wichtige Informationen zur Anreise und Parkm
 =C3=B6glichkeiten    =0D=0A      =0D=0A   Bei Gro=C3=9Fveranstaltungen oder paralle
 l stattfindenden Veranstaltungen kann es zu Engp=C3=A4ssen bei der Verf=C3
 =BCgbarkeit unserer Parkpl=C3=A4tze kommen. Bitte beachten Sie\, dass das Ve
 rkehrsleitsystem die Belegung der Tiefgarage nicht in Echtzeit anzeigt. Dah
 er empfehlen wir\, fr=C3=BChzeitig anzureisen.   =0D=0A   Sollte die Tiefgarage 
 voll sein\, empfehlen wir die Nutzung nahegelegener Parkh=C3=A4user.   =0D=0A   
 F=C3=BCr eine stressfreie Anreise raten wir zudem\, die =C3=B6ffentlichen Ve
 rkehrsmittel zu nutzen =E2=80=93 die Haltestellen befinden sich direkt an u
 nseren Geb=C3=A4uden und sind in weniger als 3 Minuten zu Fu=C3=9F erreichb
 ar. Auch das Fahrrad stellt eine praktische und umweltfreundliche Option da
 r.        Vielen Dank f=C3=BCr Ihr Verst=C3=A4ndnis. Wir w=C3=BCnschen Ihne
 n eine angenehme Anreise und viel Freude bei der Veranstaltung!   =0D=0A       
 Ihr Team der Messe Karlsruhe        Einlass: 19:00 Uhr Einlass Saal: 19:30 
 Uhr Beginn: 20:00 Uhr =20
URL:https://kalender.karlsruhe.de/db/termine/musik/naturally7n
CLASS:PUBLIC
DTSTART:20261017T000000
DTEND:20261018T000000
DTSTAMP:20260420T175601
CATEGORIES:Musik
ATTACH:https://kalender.karlsruhe.de/db/termine/
END:VEVENT

END:VCALENDAR
