BEGIN:VCALENDAR
VERSION:2.0
CALSCALE:GREGORIAN
PRODID:https://kalender.karlsruhe.de/db/termine/
METHOD:PUBLISH
BEGIN:VEVENT
UID:573738
ORGANIZER;CN=Tollhaus Karlsruhe - Freier Kulturverein e.V.:MAILTO:info@tollhaus.de
LOCATION:Kulturzentrum Tollhaus
SUMMARY:NILS WÜLKER QUARTET
DESCRIPTION;ENCODING=QUOTED-PRINTABLE:"Zuversicht - Live" // mit Omer Klein/Linda May Han Oh/Gregory Hutchinson=0D=0A
 =0D=0AZuversicht ist\, wenn wir Hoffnung so aktiv erleben\, dass wir gegen alle W
 idrigkeiten in die Zukunft vertrauen. Das jetzt erscheinende Album gleichen
  Namens\, das fu=CC=88nfzehnte des =E2=80=9Eklanggenialen Trompeters und Aus
 nahmekomponisten=E2=80=9C Nils Wu=CC=88lker und das erste mit einem deutsch
 en Titel\, strahlt diese Lebensenergie aus =E2=80=93 in vielfacher\, wunderba
 rer Hinsicht. Die elf Eigenkompositionen\, eingespielt im Quartett\, schlie
 =C3=9Fen einen Kreis und ero=CC=88ffnen neue Horizonte\, sie dra=CC=88ngen d
 en Leader bewusst aus seiner Komfortzone in eine scho=CC=88ne\, neue Klangwe
 lt. Zum ersten Mal seit seinem Debu=CC=88t von 2002 =E2=80=93 und zahlreich
 e Charterfolge spa=CC=88ter =E2=80=93 hat der ECHO-Gewinner mit einer inter
 nationalen Star-Besetzung aufgenommen: am Klavier ist Aaron Parks\, am Kontr
 abass Linda May Han Oh\, am Schlagzeug Greg Hutchinson. Wu=CC=88lkers Person
 alsound ist eindringlich und unverkennbar\, das Ergebnis dennoch u=CC=88berr
 aschend. Gemeinsam haben die Vier in nur dreieinhalb Tagen voll improvisato
 rischer\, gemeinschaftlicher Schaffenskraft in den besonders auch durch Davi
 d Bowie\, U2 und Depeche Mode legenda=CC=88ren Hansa Studios in Berlin ein A
 lbum geschaffen\, das gleicherma=C3=9Fen zeitgema=CC=88=C3=9F wie richtungsw
 eisend ist =E2=80=93 und in seinen starken Melodien und dem sagenhaften Int
 erplay voll Zuversicht. =0D=0A Nach der Entscheidung\, =E2=80=9EZuversicht=E2=80
 =9C in der klassischen Jazz-Besetzung mit Trompete\, Klavier\, Kontrabass und
  Schlagzeug aufzunehmen\, folgte Nils Wu=CC=88lker\, wie er selbst sagt\, sein
 em Bauchgefu=CC=88hl\, was die Menschen dahinter angeht =E2=80=93 Musiker*in
 nen\, deren Arbeit er scha=CC=88tzt mag und bei denen er das Gefu=CC=88hl ha
 tte\, dass sie den Zugang zu seiner Musik finden werden und sich trotzdem no
 ch einbringen. Der 47-ja=CC=88hrige wollte bei den Aufnahmen bewusst mehr R
 aum fu=CC=88r Interaktion und Spontanita=CC=88t im Studio schaffen\, besonde
 rs nachdem seine letzten Alben musikalisch durchstrukturiert waren =E2=80
 =93 ob nun durch die Orchesterarrangements fu=CC=88r =E2=80=9EContinuum=E2
 =80=9C\, die akribischen Klangwelt-Tu=CC=88fteleien seines Duos mit Arne Jan
 sen fu=CC=88r =E2=80=9ECloser=E2=80=9C oder die wochenlange Synthie- /Elect
 ro-Studioarbeit fu=CC=88r =E2=80=9EGO=E2=80=9C. =E2=80=9EMit Aaron\, Linda u
 nd Greg habe ich mir eine wunderbare Band zusammengestellt\, aber auch alles
  auf eine Karte gesetzt\,=E2=80=9C sagt Wu=CC=88lker. =E2=80=9ESchlie=C3=9Fl
 ich haben wir uns im Studio zum ersten Mal richtig getroffen\, noch nie vorh
 er zusammengespielt und hatten dann dreieinhalb Tage\, um ein ganzes Album a
 ufzunehmen.=E2=80=9C =0D=0A Das Resultat spricht fu=CC=88r sich: =E2=80=9EZuver
 sicht=E2=80=9C ist ein sehr organisches\, in jeder Note lebendiges Album\, de
 m die Kompositionen des Leaders in Kombination mit der kreativen Zusammenar
 beit der drei weiteren Bandmitglieder =E2=80=93 selbst zu Zweidrittel (viel
 leicht einfach=E2=80=9Eteils=E2=80=9C statt =E2=80=9Ezu Zweidrittel=E2=80
 =9C?) Grammy-Gewinner und auf unza=CC=88hligen stilpra=CC=88genden Alben vo
 n Wynton Marsalis u=CC=88ber Pat Metheny bis Joshua Redman zu ho=CC=88ren 
 =E2=80=93 enorme Gro=CC=88=C3=9Fe und Eleganz verschaffen\, eine immer wiede
 r u=CC=88berwa=CC=88ltigende Energie. Von der dynamischen Spannung des Open
 ers =E2=80=9EAll Hands On Deck=E2=80=9C u=CC=88ber beru=CC=88hrende Ballade
 n wie =E2=80=9ETime Will Tell=E2=80=9C oder =E2=80=9EAlpenglow=E2=80=9C ode
 r die funky =E2=80=9EForces At Work=E2=80=9C bis zum einga=CC=88ngigen =E2
 =80=9ESecond Nature=E2=80=9C\, bei dem Flu=CC=88gelhorn und Bass anfangs uni
 sono spielen\, sich auf eigenen Wegen unterstu=CC=88tzen\, um am Ende melodis
 ch wieder zusammenzukommen\, spannt sich hier ein klarer\, immer wieder ersta
 unlicher Bogen. =0D=0A Auch live wird die Besetzung des Albums zu erleben sein\,
  wird Nils Wu=CC=88lker mit Linda May Han Oh\, mit Greg Hutchinson und anfan
 gs\, aufgrund von Termingru=CC=88nden\, mit keinem Geringeren als Omer Klein 
 am Piano auf Tour gehen. Gute Gelegenheiten\, Nils Wu=CC=88lkers spontan ent
 wickelte neue Stu=CC=88cke und die traditionsreiche\, moderne Klangwelt dies
 er Musik unmittelbar zu erleben. =E2=80=9EIch habe nicht die Erwartung\, das
 s Musik eine direkte messbare Vera=CC=88nderung herbeifu=CC=88hrt=E2=80=9C\,
  meint Nils Wu=CC=88lker. =E2=80=9EAber immer das Vertrauen\, etwas Positive
 s rauszugeben\, das sich irgendwo verfa=CC=88ngt\, ra=CC=88soniert\, manifesti
 ert\, und dass das hoffentlich sinnvoll und sinnstiftend ist.=E2=80=9C=20
URL:https://kalender.karlsruhe.de/db/termine/musik/nils_wulker_quartet
CLASS:PUBLIC
DTSTART:20260425T200000
DTEND:
DTSTAMP:20250807T175725
CATEGORIES:Musik
ATTACH:https://kalender.karlsruhe.de/db/termine/musik/nils_wulker_quartet/file/icon_20250425_thomasvonaagh_nils_wuelker_2507_03-419-1_768x512_6888b6171f6159.13080315.jpg
END:VEVENT

END:VCALENDAR
