BEGIN:VCALENDAR
VERSION:2.0
CALSCALE:GREGORIAN
PRODID:https://kalender.karlsruhe.de/db/termine/
METHOD:PUBLISH
BEGIN:VEVENT
UID:580200
ORGANIZER;CN=Hochschule für Musik :MAILTO:pressebuero@hfm-karlsruhe.de
LOCATION:Kleine Kirche Karlsruhe
SUMMARY:Oboenrezital
DESCRIPTION;ENCODING=QUOTED-PRINTABLE:Mittagskonzert=0D=0A=0D=0A  Werke von Clara Schumann\, Carlo Yvon\, Paul Hindemith\, N
 ikos Skalkottas und Sebastian Reuten.  =0D=0A     Sebastian Reuten\,    Oboe  =0D=0A
      Haruka Higashitsuji    \, Klavier  =0D=0A  Eintritt frei  =0D=0A  =0D=0A  Programm 
 im Detail    Clara Schumann (1819-1896)  =0D=0A  Drei Romanzen\, op. 22  =0D=0A  I. 
 Andante molto  =0D=0A  III. Leidenschaftlich schnell  =0D=0A  =0D=0A  Carlo Yvon (1798
 =E2=80=931854)  =0D=0A  Sonate f=C3=BCr Englischhorn und Klavier  =0D=0A  II. Adagi
 o  =0D=0A  =0D=0A  Paul Hindemith (1895=E2=80=931963)  =0D=0A  Sonate f=C3=BCr Englisch
 horn und Klavier  =0D=0A  =0D=0A  Sebastian Reuten (*2000)  =0D=0A  The idea=E2=80=A6 i
 s absurd (2026\, Urauff=C3=BChrung)  =0D=0A  =0D=0A  Nikos Skalkottas (1904=E2=80=93
 1949)  =0D=0A  Concertino f=C3=BCr Oboe und Klavier =20
URL:https://kalender.karlsruhe.de/db/termine/musik/oboenrezital
CLASS:PUBLIC
DTSTART:20260515T121500
DTEND:
DTSTAMP:20260417T091017
CATEGORIES:Musik
ATTACH:https://kalender.karlsruhe.de/db/termine/musik/oboenrezital/file/icon_kleine_kirche_quadrat.jpg
END:VEVENT

END:VCALENDAR
