BEGIN:VCALENDAR
VERSION:2.0
CALSCALE:GREGORIAN
PRODID:https://kalender.karlsruhe.de/db/termine/
METHOD:PUBLISH
BEGIN:VEVENT
UID:578722
ORGANIZER;CN=Kantorat der Ev. Stadtkirche Karlsruhe:MAILTO:kantorat@stadtkirche-karlsruhe.de
LOCATION:Kleine Kirche Karlsruhe
SUMMARY:Orgelpunkt
DESCRIPTION;ENCODING=QUOTED-PRINTABLE:20 Minuten Orgelmusik zur Mittagszeit=0D=0A=0D=0A  Die Kleine Kirche Karlsruhe - da
 s =C3=A4lteste Gotteshaus und ein Kleinod der Stadt - hat im Fr=C3=BChjahr 
 2019 eine neue\, der Bedeutung und Atmosph=C3=A4re des Raums angemessene Org
 el erhalten: Die klangvolle fr=C3=BChromantische Orgel der Firma Lenter aus
  Sachsenheim/Ludwigsburg.    Orgelpunkt - 20 Minuten Orgelmusik zur Mittags
 zeit\, interpretiert von Organistinnen und Organisten aus Karlsruhe und der 
 Region\, bei freiem Eintritt immer mittwochs um 12.15 Uhr (nicht an Feiertag
 en und in den Schulferien). =20
URL:https://kalender.karlsruhe.de/db/termine/musik/orgelpunkt-18
CLASS:PUBLIC
DTSTART:20260610T121500
DTEND:
DTSTAMP:20260203T150652
CATEGORIES:Musik
ATTACH:https://kalender.karlsruhe.de/db/termine/musik/orgelpunkt-18/file/icon_Kleine_Kirche_Karlsruhe_Orgel.jpg
END:VEVENT

END:VCALENDAR
