BEGIN:VCALENDAR
VERSION:2.0
CALSCALE:GREGORIAN
PRODID:https://kalender.karlsruhe.de/db/termine/
METHOD:PUBLISH
BEGIN:VEVENT
UID:575863
ORGANIZER;CN=Substage Karlsruhe e.V.:MAILTO:info@substage.de
LOCATION:Substage Karlsruhe e.V.
SUMMARY:POTHEAD
DESCRIPTION;ENCODING=QUOTED-PRINTABLE:Pothead =E2=80=93 goes long Tour 2026=0D=0A=0D=0A  Seit Jahren bietet Pothead Music
  verl=C3=A4sslichen Service\, um Live-Musik- Besucher sicher durch die volat
 ilen Zyklen des Rock=E2=80=99n=E2=80=99Roll-Marktes zu f=C3=BChren. Durch d
 en Einsatz zahlreicher Riffrock-Technologien optimiert Pothead Music Perfor
 mance und Reichweite\, um das Publikum maximal zu bewegen. Der Melodic-Groov
 e-Ansatz von Pothead Music hat sich =C3=BCber Jahrzehnte hinweg bew=C3=A4hr
 t und spiegelt sich in einer stabilen Marktposition sowie in einer anhalten
 d hohen Nachfrage wider. Angesichts der zunehmenden Verknappung einzigartig
 er und dennoch erschwinglicher Live-Erlebnisse in der bekannten Turbulenz d
 es Rock=E2=80=99n=E2=80=99Roll-Marktplatzes hat Pothead Music die notwendig
 e Struktur geschaffen\, um den Live-Show-Prozess effizient zu gestalten. Die
  symbiotische Zusammenarbeit mit dem Publikum erzielt nachhaltigen Erfolg. 
 Pothead Music nutzt daf=C3=BCr die Markt-st=C3=A4rke der aktiven Live-Teiln
 ahme =E2=80=93 das =E2=80=9EDabeisein=E2=80=9C im entscheidenden Moment =E2
 =80=93 und entwickelt daraus ein intensives\, eindrucksvolles Erlebnis. Poth
 ead goes long on Rock=E2=80=99n=E2=80=99Roll. Durch die turbulenten Zeiten 
 von Bullen- und B=C3=A4ren-M=C3=A4rkten plant Pothead Music\, die Stabilit
 =C3=A4t aufrechtzuerhalten und ein Fundament zu schaffen\, damit die Erwartu
 ngen des Publikums an Live-Rock=E2=80=99n=E2=80=99Roll-Events langfristig e
 rf=C3=BCllt werden. Unabh=C3=A4ngig von den Marktbedingungen bietet Pothead
  Music Rockliebhabern dazu die M=C3=B6glichkeit\, den PM Show-Index live zu 
 erleben =E2=80=93ein kontinuierlich wachsendes Segment\, gepr=C3=A4gt durch 
 Publikumsbindung und Markenst=C3=A4rke.  =0D=0A  Das klare Ziel ist die Fertigs
 tellung eines neuen Studioalbums\, w=C3=A4hrend sich der Markt bereits wiede
 r im Tour-Modus befindet. Demn=C3=A4chst auch in dieser Stadt.    We will r
 ock you.    Standard & Poor    Einlass: 19:00 Uhr    Altersfreigabe: ab 16 
 Jahren =20
URL:https://kalender.karlsruhe.de/db/termine/musik/pothead
CLASS:PUBLIC
DTSTART:20261030T200000
DTEND:
DTSTAMP:20251111T175518
CATEGORIES:Musik
ATTACH:https://kalender.karlsruhe.de/db/termine/musik/pothead/file/icon_large-ph25-03-mbh22553-2.jpg
END:VEVENT

END:VCALENDAR
