BEGIN:VCALENDAR
VERSION:2.0
CALSCALE:GREGORIAN
PRODID:https://kalender.karlsruhe.de/db/termine/
METHOD:PUBLISH
BEGIN:VEVENT
UID:580858
ORGANIZER;CN=KlangKunst in der Hemingway Lounge e. V.:MAILTO:presse@hemingwaylounge.de
LOCATION:Hemingway Lounge in Karlsruhe
SUMMARY:"Resonanzen einer Reise - von Beethoven bis Kapustin"
DESCRIPTION;ENCODING=QUOTED-PRINTABLE:Reinhard Armleder (Violoncello) & Dagmar Hartmann (Klavier)=0D=0A=0D=0A  Mit =E2=80
 =9EResonanzen einer Reise =E2=80=93 von Beethoven bis Kapustin=E2=80=9C pr
 =C3=A4sentiert das     Duo Armleder & Hartmann    ein facettenreiches Kamme
 rmusikprogramm\, das musikalische Epochen und Kulturen miteinander verbindet
 .     Reinhard Armleder    und     Dagmar Hartmann    \, seit vielen Jahren 
 als Duo erfolgreich auf internationalen Konzertb=C3=BChnen pr=C3=A4sent\, f
 =C3=BChren ihr Publikum durch mehr als zwei Jahrhunderte Musikgeschichte. W
 erke von Beethoven\, Mendelssohn und Schumann begegnen der klanglichen Farbi
 gkeit von Franck ebenso wie den rhythmischen Impulsen von Piazzolla und Kap
 ustin. Die beiden Musiker =C3=BCberzeugen durch tiefgr=C3=BCndige Interpret
 ationen\, brillantes Zusammenspiel und eine fein abgestimmte kammermusikalis
 che Klangbalance. Klassische Tradition\, moderne Klangsprache und weltmusika
 lische Einfl=C3=BCsse verbinden sich zu einem abwechslungsreichen Konzertab
 end voller musikalischer Entdeckungen. Die Hemingway Lounge wird dabei zum 
 Raum f=C3=BCr eine musikalische Reise\, in der unterschiedliche Stile\, Zeite
 n und Klangwelten miteinander in Resonanz treten.  =0D=0A   =0D=0A    =0D=0A  =0D=0A  =0D=0A=20
URL:https://kalender.karlsruhe.de/db/termine/musik/resonanzen_einer_reise_von_beethoven_bis_kapustin
CLASS:PUBLIC
DTSTART:20260621T180000
DTEND:20260621T203000
DTSTAMP:20260415T084652
CATEGORIES:Musik
ATTACH:https://kalender.karlsruhe.de/db/termine/musik/resonanzen_einer_reise_von_beethoven_bis_kapustin/file/icon_260621_HL_pic2_Duo Reinhard Armleder& Dagmar Hartmann.jpg
END:VEVENT

END:VCALENDAR
