BEGIN:VCALENDAR
VERSION:2.0
CALSCALE:GREGORIAN
PRODID:https://kalender.karlsruhe.de/db/termine/
METHOD:PUBLISH
BEGIN:VEVENT
UID:580121
ORGANIZER;CN=Substage Karlsruhe e.V.:MAILTO:info@substage.de
LOCATION:Substage Karlsruhe e.V.
SUMMARY:SHADOW OF INTENT
DESCRIPTION;ENCODING=QUOTED-PRINTABLE:+ special guests: Aborted\, Disembodied Tyrant\, Soreption =E2=80=9CIMPERIUM 
 DELIRIUM=E2=80=9D EUROPEAN TOUR 2026=0D=0A=0D=0A  Shadow of Intent is an American m
 etal band based in New England originally formed by Ben Duerr and Chris Wis
 eman in 2014. The band has released four albums independently since incepti
 on\, including Primordial (2016)\, Reclaimer (2017)\, Melancholy (2019) and El
 egy (2022)\, which charted on Billboard at #4 Top New Artist Albums\, #6 Curr
 ent Hard Music Albums\, and #16 on Current Rock Albums and Current Digital A
 lbums. 2025 brings with it the band=E2=80=99s newest effort\, Imperium Delir
 ium\, the most diverse and ambitious work yet.    The band=E2=80=99s music a
 nd subject matter centers on the many evils in the world\, whether myth or r
 eal-life events\, and the future it may lead to. Different genres of metal i
 ncluding death metal\, black metal\, symphonic metal\, progressive metal\, and 
 metalcore are blended masterfully to create the unique sound that is Shadow
  of Intent. Since their first live show at the end of 2017\, Shadow of Inten
 t have toured consistently with bands such as Lorna Shore\, Cannibal Corpse\,
  The Black Dahlia Murder\, Whitechapel\, Chelsea Grin\, Cattle Decapitation an
 d more. The band's lineup today consists of Ben Duerr (Vocals)\, Chris Wisem
 an (Guitar\, Vocals\, Keyboards)\, Bryce Butler (Drums) and Andrew Monias (Bas
 s).    Einlass: 17:30 Uhr    Altersfreigabe: ab 16 Jahren =20
URL:https://kalender.karlsruhe.de/db/termine/musik/shadow_of_intent
CLASS:PUBLIC
DTSTART:20260927T183000
DTEND:
DTSTAMP:20260414T175552
CATEGORIES:Musik
ATTACH:https://kalender.karlsruhe.de/db/termine/musik/shadow_of_intent/file/icon_large-soi-promos-2025-4.jpg
END:VEVENT

END:VCALENDAR
