BEGIN:VCALENDAR
VERSION:2.0
CALSCALE:GREGORIAN
PRODID:https://kalender.karlsruhe.de/db/termine/
METHOD:PUBLISH
BEGIN:VEVENT
UID:579528
ORGANIZER;CN=Substage Karlsruhe e.V.:MAILTO:info@substage.de
LOCATION:Substage Karlsruhe e.V.
SUMMARY:SIX-PACK PARTY
DESCRIPTION;ENCODING=QUOTED-PRINTABLE:+++ Aus organisatorischen Gr=C3=BCnden gibt es f=C3=BCr unsere Partys gener
 ell keinen Vorverkauf oder Reservierungsm=C3=B6glichkeiten\, wir bitten um V
 erst=C3=A4ndnis +++mit DJ H2O-LEE=0D=0A=0D=0A  SIX-PACK - Jede Stunde eine neue Par
 ty!    6 Jahrzehnte Musikgeschichte auf einer Party? Geht geht das =C3=BCbe
 rhaupt? Klar geht das! Wir nehmen Euch mit auf eine musikalische Zeitreise\,
  in der jede Stunde ihrem eigenen Jahrzehnt gewidmet wird. Los geht es um 2
 1 Uhr mit der =E2=80=9ESixties Party=E2=80=9C: Hier erwarten Euch die Hits\,
  auf die schon Euere Eltern in katholischen Freizeitheimen abgegangen sind:
  Stones\, Beatles\, The Who\, Jimi Hendrix\, The Doors=E2=80=A6Um 22 Uhr geht
 =E2=80=99s mit Volldampf in die =E2=80=9E70s Party=E2=80=9C: Hier treffen R
 ock-Dinos wie Led Zeppelin\, Deep Purple und AC/DC auf Funk\, Soul und Disco-
 Klassiker von Abba\, James Brown und Village People. Weiter geht=E2=80=99s u
 m 23 Uhr mit der =E2=80=9E80er Party=E2=80=9C: Cooler Synthie-Pop von Depec
 he Mode\, trifft auf Madonna\, Michael Jackson und Whitney Houston. Selbstver
 st=C3=A4ndlich sind auch die =C3=84rzte\, Falco und Nena mit an Bord. Um 0 U
 hr dann unser aller Party-Highlight: =E2=80=9EDie 90er Party=E2=80=9C. Barb
 ie Girls treffen auf Backstreet Boys! Jugends=C3=BCnden von Britney Spears\,
  Bl=C3=BCmchen und den Spice Girls\, treffen auf Scooter\, Nirvana und Oasis.
  Dazu jede Menge Eurodance von Mister Vain bis Cotton Eye Joe. Ist das noch
  zu toppen? Ja....denn um 1 Uhr\, startet die =E2=80=9EDie 2000er Party=E2
 =80=9C: Dance und RnB von Black Eyed Peas\, bis Lady Gaga\, treffen auf David
  Guetta\, Taio Cruz und die Atzen. Nat=C3=BCrlich gibt es auch rhythmische G
 rooves von Seeed bis Eminem und Rockiges von Green Day bis Linkin Park. Ab 
 2 Uhr =E2=80=93 =E2=80=9EDie 2010er Party=E2=80=9C: Auf den letzten Metern 
 schlapp machen? Nicht mit uns\, denn wir geben noch mal alles... Avicii\, Cal
 vin Harris\, Ofenbach und Robin Schulz =E2=80=93 treffen auf Cro\, Katy Perry
 \, Coldplay und Ed Sheeran. Von Wannsee bis Happy =E2=80=93 von Satelite bis
  Despacito=E2=80=A6 Ein Abend wie eine Fahrt mit einem Rollercoster durch 6
  Jahrzehnte Musikgeschichte =E2=80=93 wer kann da widerstehen?    Einlass: 
 21:00 Uhr    Altersfreigabe: ab 18 Jahren =20
URL:https://kalender.karlsruhe.de/db/termine/musik/six_pack_party-1
CLASS:PUBLIC
DTSTART:20260606T210000
DTEND:
DTSTAMP:20260223T175605
CATEGORIES:Musik
ATTACH:https://kalender.karlsruhe.de/db/termine/musik/six_pack_party-1/file/icon_large-1280x720-sixpack-ka.jpg
END:VEVENT

END:VCALENDAR
