BEGIN:VCALENDAR
VERSION:2.0
CALSCALE:GREGORIAN
PRODID:https://kalender.karlsruhe.de/db/termine/
METHOD:PUBLISH
BEGIN:VEVENT
UID:580916
ORGANIZER;CN=Substage Karlsruhe e.V.:MAILTO:info@substage.de
LOCATION:Substage Karlsruhe e.V.
SUMMARY:SIX-PACK PARTY
DESCRIPTION;ENCODING=QUOTED-PRINTABLE:+++ Aus organisatorischen Gr=C3=BCnden gibt es f=C3=BCr unsere Partys gener
 ell keinen Vorverkauf oder Reservierungsm=C3=B6glichkeiten\, wir bitten um V
 erst=C3=A4ndnis ++=0D=0A=0D=0A  SIX-PACK - Jede Stunde eine neue Party!    6 Jahrze
 hnte Musikgeschichte auf einer Party? Geht geht das =C3=BCberhaupt? Klar ge
 ht das! Wir nehmen Euch mit auf eine musikalische Zeitreise\, in der jede St
 unde ihrem eigenen Jahrzehnt gewidmet wird. Los geht es um 21 Uhr mit der 
 =E2=80=9ESixties Party=E2=80=9C: Hier erwarten Euch die Hits\, auf die schon
  Euere Eltern in katholischen Freizeitheimen abgegangen sind: Stones\, Beatl
 es\, The Who\, Jimi Hendrix\, The Doors=E2=80=A6Um 22 Uhr geht=E2=80=99s mit V
 olldampf in die =E2=80=9E70s Party=E2=80=9C: Hier treffen Rock-Dinos wie Le
 d Zeppelin\, Deep Purple und AC/DC auf Funk\, Soul und Disco-Klassiker von Ab
 ba\, James Brown und Village People. Weiter geht=E2=80=99s um 23 Uhr mit der
  =E2=80=9E80er Party=E2=80=9C: Cooler Synthie-Pop von Depeche Mode\, trifft 
 auf Madonna\, Michael Jackson und Whitney Houston. Selbstverst=C3=A4ndlich s
 ind auch die =C3=84rzte\, Falco und Nena mit an Bord. Um 0 Uhr dann unser al
 ler Party-Highlight: =E2=80=9EDie 90er Party=E2=80=9C. Barbie Girls treffen
  auf Backstreet Boys! Jugends=C3=BCnden von Britney Spears\, Bl=C3=BCmchen u
 nd den Spice Girls\, treffen auf Scooter\, Nirvana und Oasis. Dazu jede Menge
  Eurodance von Mister Vain bis Cotton Eye Joe. Ist das noch zu toppen? Ja..
 ..denn um 1 Uhr\, startet die =E2=80=9EDie 2000er Party=E2=80=9C: Dance und 
 RnB von Black Eyed Peas\, bis Lady Gaga\, treffen auf David Guetta\, Taio Cruz
  und die Atzen. Nat=C3=BCrlich gibt es auch rhythmische Grooves von Seeed b
 is Eminem und Rockiges von Green Day bis Linkin Park. Ab 2 Uhr =E2=80=93 
 =E2=80=9EDie 2010er Party=E2=80=9C: Auf den letzten Metern schlapp machen? 
 Nicht mit uns\, denn wir geben noch mal alles... Avicii\, Calvin Harris\, Ofen
 bach und Robin Schulz =E2=80=93 treffen auf Cro\, Katy Perry\, Coldplay und E
 d Sheeran. Von Wannsee bis Happy =E2=80=93 von Satelite bis Despacito=E2=80
 =A6 Ein Abend wie eine Fahrt mit einem Rollercoster durch 6 Jahrzehnte Musi
 kgeschichte =E2=80=93 wer kann da widerstehen?    Einlass: 21:00 Uhr    Alt
 ersfreigabe: ab 18 Jahren =20
URL:https://kalender.karlsruhe.de/db/termine/musik/six_pack_party
CLASS:PUBLIC
DTSTART:20261205T210000
DTEND:
DTSTAMP:20260413T175558
CATEGORIES:Musik
ATTACH:https://kalender.karlsruhe.de/db/termine/musik/six_pack_party/file/icon_large-1280x720-sixpack-ka.jpg
END:VEVENT

END:VCALENDAR
