BEGIN:VCALENDAR
VERSION:2.0
CALSCALE:GREGORIAN
PRODID:https://kalender.karlsruhe.de/db/termine/
METHOD:PUBLISH
BEGIN:VEVENT
UID:574252
ORGANIZER;CN=Substage Karlsruhe e.V.:MAILTO:info@substage.de
LOCATION:Substage Karlsruhe e.V.
SUMMARY:SMOKE BLOW
DESCRIPTION;ENCODING=QUOTED-PRINTABLE:Final Hands 2026 =0D=0A=0D=0A  SMOKE BLOW geh=C3=B6ren sicherlich zu den einflussre
 icheren hiesigen Punk/Hardcore-Bands und ver=C3=B6ffentlichten in ihrer 7 A
 lben umfassenden Karriere mit Platten wie "German Angst" kleine Blaupausen 
 zeitgen=C3=B6ssischer Punk/Rockmusik. Die =C3=BCber die ersten vier Alben z
 um Sextett gewachsene Kieler Band (live mittlerweile sogar =C3=B6fter mit 3
  Gitarristen unterwegs) crossoverte sich aus dem punkadelischen Spiralnebel
  kommend im allerbesten Sinne durch Hardcore\, Metal\, Rock=E2=80=99n=E2=80
 =98Roll und Punk und schuf funkelnde Albumdiamanten\, die bis heute nichts v
 on ihrem energischen Reiz verloren haben. Im Jahr 2011 entschlossen sich di
 e Kieler\, keine neuen Studioalben mehr aufzunehmen\, nach Ablauf einer letzt
 en "echten" Tournee 2012 wesentlich k=C3=BCrzer zu treten und sich dem Albu
 m-Promo-Tour-Album-Promo-Tour-Rhythmus komplett zu entziehen. Seitdem spiel
 t die Band nur noch vereinzelt Konzerte und entert nur sehr wenige B=C3=BCh
 nen pro Jahr.  =0D=0A  Ende 2023 =C3=BCberraschten SMOKE BLOW mit dem zweiten T
 eil ihres Studio-Live-Projektes =E2=80=9EDemolition Room=E2=80=9C\, der mit 
 =E2=80=9EWaking The Dead=E2=80=9C und =E2=80=9EDopethrone=E2=80=9C die erst
 en neuen Singles nach =C3=BCber einem Jahrzehnt beherbergte. 2026 macht die
  Band nach =C3=BCber 15 Jahren nochmal in Karlsruhe Station und bespielt mi
 t dem Substage eine lokale Stammb=C3=BChne!    Einlass: 20:00 Uhr    Alters
 freigabe: ab 16 Jahren =20
URL:https://kalender.karlsruhe.de/db/termine/musik/smoke_blow
CLASS:PUBLIC
DTSTART:20261212T210000
DTEND:
DTSTAMP:20250908T175739
CATEGORIES:Musik
ATTACH:https://kalender.karlsruhe.de/db/termine/musik/smoke_blow/file/icon_large-sb-live-cfrank-peter.jpg
END:VEVENT

END:VCALENDAR
