BEGIN:VCALENDAR
VERSION:2.0
CALSCALE:GREGORIAN
PRODID:https://kalender.karlsruhe.de/db/termine/
METHOD:PUBLISH
BEGIN:VEVENT
UID:579946
ORGANIZER;CN=Badisches Staatstheater Karlsruhe:MAILTO:kartenservice@staatstheater.karlsruhe.de
LOCATION:Staatstheater, siehe Beschreibung
SUMMARY:Staatskapelle entspannt (Staatstheater entspannt)
DESCRIPTION;ENCODING=QUOTED-PRINTABLE:mit Werken von Germaine Tailleferre\, Mel Bonis=0D=0A=0D=0A
URL:https://kalender.karlsruhe.de/db/termine/musik/staatskapelle_entspannt_staatstheater_entspannt-1
CLASS:PUBLIC
DTSTART:20260614T110000
DTEND:
DTSTAMP:20260311T175536
CATEGORIES:Musik
ATTACH:https://kalender.karlsruhe.de/db/termine/musik/staatskapelle_entspannt_staatstheater_entspannt-1/file/icon_BSK_Logo_Theater_mit_Schutzraum.jpg
END:VEVENT

END:VCALENDAR
