BEGIN:VCALENDAR
VERSION:2.0
CALSCALE:GREGORIAN
PRODID:https://kalender.karlsruhe.de/db/termine/
METHOD:PUBLISH
BEGIN:VEVENT
UID:579945
ORGANIZER;CN=Badisches Staatstheater Karlsruhe:MAILTO:kartenservice@staatstheater.karlsruhe.de
LOCATION:Staatstheater, siehe Beschreibung
SUMMARY:Staatskapelle entspannt (Staatstheater entspannt)
DESCRIPTION;ENCODING=QUOTED-PRINTABLE:mit Werken von Felix Mendelssohn Bartholdy=0D=0A=0D=0A
URL:https://kalender.karlsruhe.de/db/termine/musik/staatskapelle_entspannt_staatstheater_entspannt
CLASS:PUBLIC
DTSTART:20260517T110000
DTEND:
DTSTAMP:20260401T175532
CATEGORIES:Musik
ATTACH:https://kalender.karlsruhe.de/db/termine/musik/staatskapelle_entspannt_staatstheater_entspannt/file/icon_bsk_stueckinfo_staatskapelle-entspannt_69cc014c3a9f30.48105929.jpg
END:VEVENT

END:VCALENDAR
