BEGIN:VCALENDAR
VERSION:2.0
CALSCALE:GREGORIAN
PRODID:https://kalender.karlsruhe.de/db/termine/
METHOD:PUBLISH
BEGIN:VEVENT
UID:579005
ORGANIZER;CN=Badisches Konservatorium:MAILTO:
LOCATION:Badisches KONServatorium, Musikschule der Stadt Karlsruhe
SUMMARY:Stipendiatenkonzert III
DESCRIPTION;ENCODING=QUOTED-PRINTABLE:Sch=C3=BClerinnen und Sch=C3=BCler des Hochbegabten-Bereichs am Badischen K
 ONServatorium pr=C3=A4sentieren ihre aktuellen Werke.=0D=0A=0D=0A
URL:https://kalender.karlsruhe.de/db/termine/musik/stipendiatenkonzert_iii
CLASS:PUBLIC
DTSTART:20260421T183000
DTEND:
DTSTAMP:20260212T103848
CATEGORIES:Musik
ATTACH:https://kalender.karlsruhe.de/db/termine/musik/stipendiatenkonzert_iii/file/icon_33-20241019_KA_Kons_Einweihung_Steinwayfluegel_84-74.jpg
END:VEVENT

END:VCALENDAR
