BEGIN:VCALENDAR
VERSION:2.0
CALSCALE:GREGORIAN
PRODID:https://kalender.karlsruhe.de/db/termine/
METHOD:PUBLISH
BEGIN:VEVENT
UID:579007
ORGANIZER;CN=Badisches Konservatorium:MAILTO:
LOCATION:Badisches KONServatorium, Musikschule der Stadt Karlsruhe
SUMMARY:Stipendiatenkonzert IV
DESCRIPTION;ENCODING=QUOTED-PRINTABLE:Direkt im Anschluss an unseren Tag der offenen T=C3=BCr pr=C3=A4sentieren S
 ch=C3=BClerinnen und Sch=C3=BCler des Hochbegabten-Bereichs am Badischen KO
 NServatorium ihre aktuellen Werke.=0D=0A=0D=0A
URL:https://kalender.karlsruhe.de/db/termine/musik/stipendiatenkonzert_iv
CLASS:PUBLIC
DTSTART:20260509T180000
DTEND:
DTSTAMP:20260224T085038
CATEGORIES:Musik
ATTACH:https://kalender.karlsruhe.de/db/termine/musik/stipendiatenkonzert_iv/file/icon_33-20241019_KA_Kons_Einweihung_Steinwayfluegel_84-74.jpg
END:VEVENT

END:VCALENDAR
