BEGIN:VCALENDAR
VERSION:2.0
CALSCALE:GREGORIAN
PRODID:https://kalender.karlsruhe.de/db/termine/
METHOD:PUBLISH
BEGIN:VEVENT
UID:580429
ORGANIZER;CN=Klimabündnis:MAILTO:info@klimabuendnis-karlsruhe.de
LOCATION:Kinemathek Karlsruhe e.V.
SUMMARY:„Suiten für eine verwundete Welt“
DESCRIPTION;ENCODING=QUOTED-PRINTABLE:FILMREIHE KLIMA | KRISEN | UTOPIEN=0D=0A=0D=0A  FILMREIHE KLIMA | KRISEN | UTOPIEN 
    =E2=80=9ESuiten f=C3=BCr eine verwundete Welt=E2=80=9C    (D 2023\, 70 Mi
 n.\, Regie: Stefan Aub=C3=A9 )    Kinemathek Karlsruhe\, 24. Juni\, 19.00 Uhr\,
  https://kinemathek-karlsruhe.de    Das Filmkonzert ist ein sehr au=C3=9Fer
 gew=C3=B6hnliches Projekt der renommierten Cellistin Tanja Tetzlaff. F=C3
 =BCr den Film besuchte sie Orte\, die vom Klimawandel betroffen sind\, u.a. d
 en Harz\, die franz=C3=B6sische Atlantikk=C3=BCste und den Aletschgletscher\,
  um dort die Bachsuiten 4 & 5 live zu spielen. Die Sch=C3=B6nheit der Musik
  steht in Kontrast zu den teils dramatischen Bildern aus der verwundeten Na
 tur\, sie stemmt sich gegen die Endg=C3=BCltigkeit der Zerst=C3=B6rung. Ein 
 musikalisch und visuell bewegendes Pl=C3=A4doyer f=C3=BCr mehr Achtsamkeit 
 und Demut gegen=C3=BCber der Sch=C3=B6nheit unseres Planeten. Ber=C3=BChren
 d und bedr=C3=BCckend zugleich.Nach dem Film Gespr=C3=A4ch mit Mitgliedern 
 des =E2=80=9EOrchesters des Wandels=E2=80=9C. =20
URL:https://kalender.karlsruhe.de/db/termine/musik/suiten_fur_eine_verwundete_welt
CLASS:PUBLIC
DTSTART:20260624T190000
DTEND:20260624T210000
DTSTAMP:20260330T124340
CATEGORIES:Musik
ATTACH:https://kalender.karlsruhe.de/db/termine/musik/suiten_fur_eine_verwundete_welt/file/icon_„Suiten für eine verwundete Welt“ .jpg
END:VEVENT

END:VCALENDAR
