BEGIN:VCALENDAR
VERSION:2.0
CALSCALE:GREGORIAN
PRODID:https://kalender.karlsruhe.de/db/termine/
METHOD:PUBLISH
BEGIN:VEVENT
UID:575995
ORGANIZER;CN=Substage Karlsruhe e.V.:MAILTO:info@substage.de
LOCATION:Substage Karlsruhe e.V.
SUMMARY:SWISS & DIE ANDERN
DESCRIPTION;ENCODING=QUOTED-PRINTABLE:Special guest: Moonkid =0D=0A=0D=0A  Die =E2=80=9EPunk ist tot Tour=E2=80=9C im Fr
 =C3=BChjahr 2026 ist so gut wie ausverkauft =E2=80=93 deshalb legen wir nac
 h! Im Herbst 2026 gehen Swiss + Die Andern erneut auf Tour\, mit einem epoch
 alen Jahresabschluss in Hamburg. Und weil eh keiner diesen Pressetext liest
 : Hier ein leckeres Keks-Rezept f=C3=BCr die Adventszeit. Zutaten: Zweihund
 ert g Mehl\, einhundert g Butter\, achtzig g Zucker\, ein Ei\, ein TL Vanillezu
 cker\, Prise Salz\, f=C3=BCnfzig g gehackte N=C3=BCsse\, f=C3=BCnfzig g Schoko
 streusel. Zubereitung: Butter\, Zucker und Vanillezucker cremig r=C3=BChren.
  Ei unterheben. Mehl und Salz mischen\, einarbeiten. N=C3=BCsse und Schokost
 reusel unterkneten. Teig drei=C3=9Fig Min. k=C3=BChlen. Auf drei mm ausroll
 en\, Formen ausstechen. Vielleicht gibt es ja bald Missgl=C3=BCckte Welt Kek
 sformen. Bei einhundertachtzig =C2=B0C (Ober-/Unterhitze) acht=E2=80=93zehn
 Min. backen. Abk=C3=BChlen lassen =E2=80=93fertig    Einlass: 18:30 Uhr    
 Altersfreigabe: ab 16 Jahren =20
URL:https://kalender.karlsruhe.de/db/termine/musik/swiss_die_andern
CLASS:PUBLIC
DTSTART:20261114T193000
DTEND:
DTSTAMP:20260223T175605
CATEGORIES:Musik
ATTACH:https://kalender.karlsruhe.de/db/termine/musik/swiss_die_andern/file/icon_large-swiss-c--lee-mass.jpg
END:VEVENT

END:VCALENDAR
