BEGIN:VCALENDAR
VERSION:2.0
CALSCALE:GREGORIAN
PRODID:https://kalender.karlsruhe.de/db/termine/
METHOD:PUBLISH
BEGIN:VEVENT
UID:580385
ORGANIZER;CN=Badisches Konservatorium:MAILTO:
LOCATION:Badisches KONServatorium, Musikschule der Stadt Karlsruhe
SUMMARY:Tag der offenen Tür
DESCRIPTION;ENCODING=QUOTED-PRINTABLE:Freut euch auf viel Musik beim Tag der offenen T=C3=BCr am Badischen KONSer
 vatorium!=0D=0A=0D=0A  Kinderkonzert "Instrumenten-Olympiade" 14:15 Uhr\, Konzertsaa
 l // Erkunde alle unsere Instrumente und Unterrichtsf=C3=A4cher 15 bis 18 U
 hr // Stipendiatenkonzert IV 18 Uhr\, Konzertsaal =20
URL:https://kalender.karlsruhe.de/db/termine/musik/tag_der_offenen_tur-2
CLASS:PUBLIC
DTSTART:20260509T140000
DTEND:
DTSTAMP:20260330T124206
CATEGORIES:Musik
ATTACH:https://kalender.karlsruhe.de/db/termine/musik/tag_der_offenen_tur-2/file/icon_Tag der offenen Tür_Plakat.jpg
END:VEVENT

END:VCALENDAR
