BEGIN:VCALENDAR
VERSION:2.0
CALSCALE:GREGORIAN
PRODID:https://kalender.karlsruhe.de/db/termine/
METHOD:PUBLISH
BEGIN:VEVENT
UID:578694
ORGANIZER;CN=Substage Karlsruhe e.V.:MAILTO:info@substage.de
LOCATION:Substage Karlsruhe e.V.
SUMMARY:TESTAMENT
DESCRIPTION;ENCODING=QUOTED-PRINTABLE:Special guests: Death Angel + Metal Church =0D=0A=0D=0A  Testament\, die legend=C3
 =A4ren Thrash-Metal-Pioniere aus der Bay Area machen gemeinsame Sache mit D
 eat Angel und Metal Church und beehren uns im Rahmen ihrer "European Summer
  Festival Tour 2026". Die Tour verhei=C3=9Ft eine explosive Feier des anhal
 tenden Verm=C3=A4chtnisses der Band und ihrer einflussreichen Pr=C3=A4senz 
 in der Thrash-Metal-Szene zu werden. Chuck Billy\, der Frontmann von Testame
 nt\, freut sich sehr auf die bevorstehende Tournee: "Es ist immer etwas Beso
 nderes\, mit unseren Fans auf der ganzen Welt zusammenzukommen\, und diese To
 ur wird keine Ausnahme sein. Macht euch bereit f=C3=BCr einen unerbittliche
 n Ansturm von Thrash-Metal-Chaos!" Gitarrist Eric Peterson f=C3=BCgt hinzu:
  "Die europ=C3=A4ische Metalszene war ein wichtiger Teil unserer Reise\, und
  wir k=C3=B6nnen es kaum erwarten\, die B=C3=BChne mit einigen unglaublichen
  Bands zu teilen und unvergessliche Erinnerungen mit unseren Fans zu schaff
 en." Verpasst nicht diese einzigartige Chance\, Testament's Klanggewitter li
 ve zu erleben und die Kraft des Thrash Metals vom Feinsten zu erfahren. Mac
 ht euch bereit f=C3=BCr einen Sommer voller gl=C3=BChender Riffs\, intensive
 r Energie und einer Feier des unverg=C3=A4nglichen Verm=C3=A4chtnisses des 
 Metal.    Einlass: 19:00 Uhr    Altersfreigabe: ab 16 Jahren =20
URL:https://kalender.karlsruhe.de/db/termine/musik/testament
CLASS:PUBLIC
DTSTART:20260811T200000
DTEND:
DTSTAMP:20260204T175602
CATEGORIES:Musik
ATTACH:https://kalender.karlsruhe.de/db/termine/musik/testament/file/icon_large-testament-kopie.jpg
END:VEVENT

END:VCALENDAR
